Workbook

Sheet Приказ 336
B7: ПРАЙС-ЛИСТ
B8: НА УЧЕБНОЕ ОБОРУДОВАНИЕ
B9: ДЛЯ ОСНАЩЕНИЯ ШКОЛ-НОВОСТРОЕК
B11: Наименование раздела/подраздела. Ссылка на спецификацию кабинета | C11: Стоимость одного кабинета, руб.
B12: Раздел 1. Комплекс оснащения общешкольных помещений | C12: Уточняйте
B13: Раздел 2. Комплекс оснащения предметных кабинетов | C13: Уточняйте
B14: Подраздел 1. Кабинет начальной школы | C14: ='2.1. Нач шк'!E140 -> 2734653
B15: Подраздел 2. Мобильный компьютерный класс для начальной школы | C15: Уточняйте
B16: Подраздел 3. Кабинет проектно-исследовательской деятельности в начальной школе (на базе компьютерного класса) | C16: Уточняйте
B17: Подраздел 4. Кабинет учителя- логопеда | C17: Уточняйте
B18: Подраздел 5. Активная рекреация для начальной школы | C18: Уточняйте
B19: Подраздел 6. Игровая в начальной школе | C19: Уточняйте
B20: Подраздел 7. Кабинет русского языка и литературы | C20: ='2.7. Русяз и лит'!E45 -> 1210770
B21: Подраздел 8. Кабинет иностранного языка | C21: ='2.8. Иняз'!E41 -> 969435
B22: Подраздел 9. Мобильный лингафонный класс | C22: Уточняйте
B23: Подраздел 10. Кабинет истории и обществознания | C23: ='2.10. Ист'!E46 -> 1163740.5
B24: Подраздел 11. Кабинет географии | C24: ='2.11. Геогр'!E66 -> 1729501.5
B25: Подраздел 12. Кабинет изобразительного искусства | C25: ='2.12. ИЗО'!E54 -> 2549662.5
B26: Подраздел 13. Кабинет музыки | C26: ='2.13. Музыка'!E60 -> 1563030
B27: Подраздел 14. Кабинет физики | C27: ='2.14. Физика'!E143 -> 4702392
B28: Подраздел 15. Кабинет химии | C28: ='2.15. Химия'!E184 -> 4456768.5
B29: Подраздел 16. Кабинет биологии и экологии | C29: ='2.16. Био и экол'!E94 -> 4695144
B30: Подраздел 17. Кабинет естествознания | C30: ='2.17. Естеств'!E80 -> 2458548
B31: Подраздел 18. Кабинет математики | C31: ='2.18. Матем'!E58 -> 1426531.5
B32: Подраздел 19. Кабинет информатики | C32: Уточняйте
B33: Подраздел 20. Мобильный компьютерный класс | C33: Уточняйте
B34: Подраздел 21. Кабинет технологии | C34: ='2.21. Технол'!E321 -> 6706866
B35: Подраздел 22. Кабинет ОБЖ | C35: ='2.22. ОБЖ'!E81 -> 1983859.5
B36: Подраздел 23. Профильные классы | C36: Уточняйте
B37: Раздел 3. Комплекс лабораторий и студий для внеурочной деятельности | C37: Уточняйте
B38: Раздел 4. Комплекс оборудования для обучающихся с ОВЗ и инвалидностью | C38: Уточняйте

Sheet 2.1. Нач шк
A11: Подраздел 1. Кабинет начальной школы
B12: Наименование | C12: Кол-во* | E12: Сумма, руб.
B13: Специализированная мебель и система хранения
A14: 2.1.1. | B14: Доска классная | C14: 1 | D14: 6300 | E14: =D14*C14 -> 6300
A15: 2.1.2. | B15: Стол учителя | C15: 1 | D15: 9000 | E15: =D15*C15 -> 9000
A16: 2.1.3. | B16: Стол учителя приставной | C16: 1 | D16: 6000 | E16: =D16*C16 -> 6000
A17: 2.1.4. | B17: Кресло для учителя | C17: 1 | D17: 5250 | E17: =D17*C17 -> 5250
A18: 2.1.5. | B18: Парта школьная регулируемая или конторка | C18: 15 | D18: 5085 | E18: =D18*C18 -> 76275
A19: 2.1.6. | B19: Стул ученический для начальной школы | C19: 30 | D19: 1650 | E19: =D19*C19 -> 49500
A20: 2.1.7. | B20: Шкаф для хранения учебных пособий | C20: 2 | D20: 13350 | E20: =D20*C20 -> 26700
A21: 2.1.8. | B21: Шкаф для хранения с выдвигающимися демонстрационными полками | C21: 1 | D21: 27600 | E21: =D21*C21 -> 27600
A22: 2.1.9. | B22: Стеллаж демонстрационный
A23: 2.1.10. | B23: Информационно-тематический стенд | C23: 1 | D23: 8250 | E23: =D23*C23 -> 8250
A24: 2.1.11. | B24: Тумба для таблиц под доску | C24: 1 | D24: 7200 | E24: =D24*C24 -> 7200
A25: 2.1.12. | B25: Система демонстрации и хранения таблиц и плакатов | C25: 1 | D25: 26250 | E25: =D25*C25 -> 26250
B26: ТСО (рабочее место учителя)
A27: 2.1.13. | B27: Интерактивный программно-аппаратный комплекс | C27: 1 | D27: 367500 | E27: =D27*C27 -> 367500
A28: 2.1.14. | B28: Компьютер учителя | C28: 1 | D28: 104850 | E28: =D28*C28 -> 104850
A29: 2.1.15. | B29: Планшетный компьютер учителя | C29: 1 | D29: 44250 | E29: =D29*C29 -> 44250
A30: 2.1.16. | B30: Многофункциональное устройство | C30: 1 | D30: 29250 | E30: =D30*C30 -> 29250
A31: 2.1.17. | B31: Документ-камера | C31: 1 | D31: 42000 | E31: =D31*C31 -> 42000
A32: 2.1.18. | B32: Акустическая система для аудитории
A33: 2.1.19. | B33: Сетевой фильтр | C33: 1 | D33: 1215 | E33: =D33*C33 -> 1215
B34: Комплекс учебных и наглядных пособий для кабинета начальной школы
B35: Электронные средства обучения (CD, DVD, видеофильмы, интерактивные плакаты)
A36: 2.1.20. | B36: Электронные образовательные комплексы для кабинета начальной школы | C36: 1 | D36: 245025 | E36: =D36*C36 -> 245025
B37: Предметная область Филология
B38: Предметы "Русский язык". "Родной язык"
B39: Демонстрационные учебно-наглядные пособия
A40: 2.1.21. | B40: Демонстрационные учебные таблицы по русскому языку и литературному чтению для начальной школы | C40: 1 | D40: 33660 | E40: =D40*C40 -> 33660
A41: 2.1.22. | B41: Демонстрационные пособия по русскому языку и литературному чтению для начальной школы | C41: 1 | D41: 3562.5 | E41: =D41*C41 -> 3562.5
A42: 2.1.23. | B42: Сюжетные (предметные) картинки по русскому языку и литературному чтению | C42: 1 | D42: 6000 | E42: =D42*C42 -> 6000
A43: 2.1.24. | B43: Репродукции картин и художественных фотографий | C43: 1 | D43: 10200 | E43: =D43*C43 -> 10200
A44: 2.1.25. | B44: Раздаточные карточки с буквами русского алфавита | C44: 1 | D44: 19800 | E44: =D44*C44 -> 19800
A45: 2.1.26. | B45: Справочники и энциклопедии по русскому языку и литературному чтению для начальной школы | C45: 1 | D45: 1800 | E45: =D45*C45 -> 1800
A46: 2.1.27. | B46: Словари для учителя начальной школы | C46: 1 | D46: 3450 | E46: =D46*C46 -> 3450
A47: 2.1.28. | B47: Словари раздаточные для кабинета начальной школы | C47: 15 | D47: 3450 | E47: =D47*C47 -> 51750
B48: Игры
A49: 2.1.29. | B49: Игровой набор по развитию речи | C49: 7 | D49: 24300 | E49: =D49*C49 -> 170100
A50: 2.1.30. | B50: Настольные лингвистические игры | C50: 7 | D50: 3015 | E50: =D50*C50 -> 21105
...

Sheet 2.7. Русяз и лит
A11: Подраздел 7. Кабинет русского языка и литературы
A12: № п/п | B12: Наименование | C12: Кол-во* | D12: Цена, руб. | E12: Сумма, руб.
A13: Специализированная мебель и системы хранения
A14: 2.7.1. | B14: Доска классная | C14: 1 | D14: 6150 | E14: =D14*C14 -> 6150
A15: 2.7.2. | B15: Стол учителя | C15: 1 | D15: 9000 | E15: =D15*C15 -> 9000
A16: 2.7.3. | B16: Стол учителя приставной | C16: 1 | D16: 6000 | E16: =D16*C16 -> 6000
A17: 2.7.4. | B17: Кресло для учителя | C17: 1 | D17: 5250 | E17: =D17*C17 -> 5250
A18: 2.7.5. | B18: Стол ученический двухместный регулируемый по высоте | C18: 15 | D18: 5085 | E18: =D18*C18 -> 76275
A19: 2.7.6. | B19: Стул ученический с регулируемой высотой | C19: 30 | D19: 3150 | E19: =D19*C19 -> 94500
A20: 2.7.7. | B20: Шкаф для хранения учебных пособий | C20: 2 | D20: 13350 | E20: =D20*C20 -> 26700
A21: 2.7.8. | B21: Шкаф для хранения с выдвигающимися демонстрационными полками | C21: 1 | D21: 27600 | E21: =D21*C21 -> 27600
A22: 2.7.9. | B22: Тумба для таблиц под доску | C22: 1 | D22: 7200 | E22: =D22*C22 -> 7200
A23: 2.7.10. | B23: Система хранения таблиц и плакатов | C23: 1 | D23: 26250 | E23: =D23*C23 -> 26250
A24: 2.7.11. | B24: Боковая демонстрационная панель
A25: 2.7.12. | B25: Информационно-тематический стенд | C25: 1 | D25: 25500 | E25: =D25*C25 -> 25500
A26: ТСО (рабочее место учителя)
A27: 2.7.13. | B27: Интерактивный программно-аппаратный комплекс | C27: 1 | D27: 367500 | E27: =D27*C27 -> 367500
A28: 2.7.14. | B28: Компьютер учителя | C28: 1 | D28: 104850 | E28: =D28*C28 -> 104850
A29: 2.7.15. | B29: Планшетный компьютер учителя
A30: 2.7.16. | B30: Многофункциональное устройство | C30: 1 | D30: 29250 | E30: =D30*C30 -> 29250
A31: 2.7.17. | B31: Документ-камера | C31: 1 | D31: 42000 | E31: =D31*C31 -> 42000
A32: 2.7.18. | B32: Акустическая система для аудитории | D32: 0
A33: 2.7.19. | B33: Сетевой фильтр | C33: 1 | D33: 1215 | E33: =D33*C33 -> 1215
A34: Электронные средства обучения (CD, DVD, видеофильмы, интерактивные плакаты)
A35: 2.7.20. | B35: Электронные средства обучения (CD, DVD, видеофильмы, интерактивные плакаты) для кабинета русского языка и литературы | C35: 1 | D35: 84375 | E35: =D35*C35 -> 84375
A36: 2.7.21. | B36: Видеофильмы учебные по литературе | C36: 1 | D36: 7605 | E36: =D36*C36 -> 7605
A37: Демонстрационные учебно-наглядные пособия
A38: 2.7.22. | B38: Демонстрационные учебные таблицы по русскому языку и литературе | C38: 1 | D38: 112335 | E38: =D38*C38 -> 112335
A39: 2.7.23. | B39: Демонстрационные материалы по литературе | C39: 1 | D39: 17415 | E39: =D39*C39 -> 17415
A40: 2.7.24. | B40: Портреты писателей, литературоведов и лингвистов | C40: 1 | D40: 10725 | E40: =D40*C40 -> 10725
A41: 2.7.25. | B41: Словари языковые фундаментальные | C41: 1 | D41: 10875 | E41: =D41*C41 -> 10875
A42: 2.7.26. | B42: Словари, справочники, энциклопедии языковые и литературоведческие для учителей и учеников 9-11 классов | C42: 1 | D42: 17400 | E42: =D42*C42 -> 17400
A43: 2.7.27. | B43: Словари школьные раздаточные для 5-11 классов | C43: 15 | D43: 5640 | E43: =D43*C43 -> 84600
A44: 2.7.28. | B44: Комплект репродукций картин для уроков развития речи и литературы | C44: 1 | D44: 10200 | E44: =D44*C44 -> 10200
B45: ИТОГО | E45: =SUM(E13:E44) -> 1210770

Sheet 2.8. Иняз
A11: Подраздел 8. Кабинет иностранного языка
A12: № п/п | B12: Наименование | C12: Кол-во* | D12: Цена, руб. | E12: Сумма, руб.
A13: Специализированная мебель и системы хранения
A14: 2.8.1. | B14: Доска классная | C14: 1 | D14: 6150 | E14: =D14*C14 -> 6150
A15: 2.8.2. | B15: Стол учителя | C15: 1 | D15: 9000 | E15: =D15*C15 -> 9000
A16: 2.8.3. | B16: Стол учителя приставной | C16: 1 | D16: 6000 | E16: =D16*C16 -> 6000
A17: 2.8.4. | B17: Кресло для учителя | C17: 1 | D17: 5250 | E17: =D17*C17 -> 5250
A18: 2.8.5. | B18: Стол ученический двухместный регулируемый по высоте | C18: 15 | D18: 5235 | E18: =D18*C18 -> 78525
A19: 2.8.6. | B19: Стул ученический поворотный с регулируемой высотой | C19: 30 | D19: 5250 | E19: =D19*C19 -> 157500
A20: 2.8.7. | B20: Шкаф для хранения учебных пособий | C20: 2 | D20: 13350 | E20: =D20*C20 -> 26700
A21: 2.8.8. | B21: Система хранения таблиц и плакатов | C21: 1 | D21: 26250 | E21: =D21*C21 -> 26250
A22: 2.8.9. | B22: Боковая демонстрационная панель
A23: 2.8.10. | B23: Информационно-тематический стенд | C23: 1 | D23: 26850 | E23: =D23*C23 -> 26850
A24: ТСО (рабочее место учителя)
A25: 2.8.11. | B25: Интерактивный программно-аппаратный комплекс | C25: 1 | D25: 367500 | E25: =D25*C25 -> 367500
A26: 2.8.12. | B26: Компьютер учителя | C26: 1 | D26: 104850 | E26: =D26*C26 -> 104850
A27: 2.8.13. | B27: Планшетный компьютер учителя | D27: 0
A28: 2.8.14. | B28: Многофункциональное устройство | C28: 1 | D28: 29250 | E28: =D28*C28 -> 29250
A29: 2.8.15. | B29: Документ-камера | C29: 1 | D29: 42000 | E29: =D29*C29 -> 42000
A30: 2.8.16. | B30: Акустическая система для аудитории | D30: 0
A31: 2.8.17. | B31: Сетевой фильтр | C31: 1 | D31: 1215 | E31: =D31*C31 -> 1215
A32: Электронные средства обучения (CD, DVD, видеофильмы, интерактивные плакаты)
A33: 2.8.18. | B33: Электронные средства обучения (CD, DVD, видеофильмы, интерактивные плакаты) для кабинета иностранного языка | C33: 1 | D33: 16500 | E33: =D33*C33 -> 16500
A34: 2.8.19. | B34: Видеофильмы учебные по иностранному языку | C34: 1 | D34: 3345 | E34: =D34*C34 -> 3345
A35: Демонстрационные учебно-наглядные пособия
A36: 2.8.20. | B36: Таблицы демонстрационные | C36: 1 | D36: 16500 | E36: =D36*C36 -> 16500
A37: 2.8.21. | B37: Карты | C37: 1 | D37: 34800 | E37: =D37*C37 -> 34800
A38: 2.8.22. | B38: Портреты иностранных писателей | C38: 1 | D38: 6900 | E38: =D38*C38 -> 6900
A39: 2.8.23. | B39: Таблицы раздаточные
A40: 2.8.24. | B40: Комплект словарей | C40: 1 | D40: 4350 | E40: =D40*C40 -> 4350
B41: ИТОГО | E41: =SUM(E14:E40) -> 969435

Sheet 2.10. Ист
A11: Подраздел 10. Кабинет истории и обществознания
B12: Наименование | C12: Кол-во* | D12: Цена, руб. | E12: Сумма, руб.
A13: Специализированная мебель и системы хранения
A14: 2.10.1. | B14: Доска классная | C14: 1 | D14: 6150 | E14: =D14*C14 -> 6150
A15: 2.10.2. | B15: Стол учителя | C15: 1 | D15: 9000 | E15: =D15*C15 -> 9000
A16: 2.10.3. | B16: Стол учителя приставной | C16: 1 | D16: 6000 | E16: =D16*C16 -> 6000
A17: 2.10.4. | B17: Кресло для учителя | C17: 1 | D17: 5250 | E17: =D17*C17 -> 5250
A18: 2.10.5. | B18: Стол ученический двухместный регулируемый по высоте | C18: 15 | D18: 5235 | E18: =D18*C18 -> 78525
A19: 2.10.6. | B19: Стул ученический с регулируемой высотой | C19: 30 | D19: 3150 | E19: =D19*C19 -> 94500
A20: 2.10.7. | B20: Шкаф для хранения учебных пособий | C20: 2 | D20: 13350 | E20: =D20*C20 -> 26700
A21: 2.10.8. | B21: Шкаф для хранения с выдвигающимися демонстрационными полками | C21: 1 | D21: 27600 | E21: =D21*C21 -> 27600
A22: 2.10.9. | B22: Система хранения таблиц и плакатов | C22: 1 | D22: 26250 | E22: =D22*C22 -> 26250
A23: 2.10.10. | B23: Тумба для таблиц под доску | C23: 1 | D23: 7200 | E23: =D23*C23 -> 7200
A24: 2.10.11. | B24: Информационно-тематический стенд | C24: 1 | D24: 5850 | E24: =D24*C24 -> 5850
A25: ТСО (рабочее место учителя) | D25: 0
A26: 2.10.12. | B26: Интерактивный программно-аппаратный комплекс | C26: 1 | D26: 367500 | E26: =D26*C26 -> 367500
A27: 2.10.13. | B27: Компьютер учителя | C27: 1 | D27: 104850 | E27: =D27*C27 -> 104850
A28: 2.10.14. | B28: Планшетный компьютер учителя | D28: 0
A29: 2.10.15. | B29: Многофункциональное устройство | C29: 1 | D29: 29250 | E29: =D29*C29 -> 29250
A30: 2.10.16. | B30: Документ-камера | C30: 1 | D30: 42000 | E30: =D30*C30 -> 42000
A31: 2.10.17. | B31: Акустическая система для аудитории | D31: 0
A32: 2.10.18. | B32: Сетевой фильтр | C32: 1 | D32: 1215 | E32: =D32*C32 -> 1215
A33: Демонстрационные учебно-наглядные пособия | D33: 0
A34: 2.10.19. | B34: Портреты исторических деятелей | C34: 1 | D34: 5250 | E34: =D34*C34 -> 5250
A35: 2.10.20. | B35: Карты демонстрационные по курсу истории и обществознания | C35: 1 | D35: 32760 | E35: =D35*C35 -> 32760
A36: 2.10.21. | B36: Таблицы и картины демонстрационные по курсу истории и обществознания | C36: 1 | D36: 22800 | E36: =D36*C36 -> 22800
A37: 2.10.22. | B37: Справочники | C37: 1 | D37: 3535.5 | E37: =D37*C37 -> 3535.5
A38: 2.10.23. | B38: Таблицы раздаточные по курсу истории и обществознания | C38: 15 | D38: 10500 | E38: =D38*C38 -> 157500
A39: 2.10.24. | B39: Атлас по истории с Комплектом контурных карт | C39: 15 | D39: 1740 | E39: =D39*C39 -> 26100
A40: 2.10.25. | B40: Конституция РФ | C40: 15 | D40: 75 | E40: =D40*C40 -> 1125
A41: 2.10.26. | B41: Кодекс РФ по праву | C41: 15 | D41: 675 | E41: =D41*C41 -> 10125
A42: Электронные средства обучения (CD, DVD, видеофильмы, интерактивные плакаты) | D42: 0
A43: 2.10.27. | B43: Электронные средства обучения (CD, DVD, видеофильмы, интерактивные плакаты) для кабинета истории и обществознания | C43: 1 | D43: 41250 | E43: =D43*C43 -> 41250
A44: 2.10.28. | B44: Государственные символы Российской Федерации | C44: 1 | D44: 12900 | E44: =D44*C44 -> 12900
A45: 2.10.29. | B45: Комплект учебных видео фильмов по курсу истории и обществознания | C45: 1 | D45: 12555 | E45: =D45*C45 -> 12555
B46: ИТОГО | E46: =SUM(E14:E45) -> 1163740.5

Sheet 2.11. Геогр
A11: Подраздел 11. Кабинет географии
A12: № п/п | B12: Наименование | C12: Кол-во* | D12: Цена, руб. | E12: Сумма, руб.
A13: Специализированная мебель и системы хранения
A14: 2.11.1. | B14: Доска классная | C14: 1 | D14: 6150 | E14: =D14*C14 -> 6150
A15: 2.11.2. | B15: Стол учителя | C15: 1 | D15: 9000 | E15: =D15*C15 -> 9000
A16: 2.11.3. | B16: Стол учителя приставной | C16: 1 | D16: 6000 | E16: =D16*C16 -> 6000
A17: 2.11.4. | B17: Кресло для учителя | C17: 1 | D17: 5250 | E17: =D17*C17 -> 5250
A18: 2.11.5. | B18: Стол ученический двухместный регулируемый по высоте | C18: 15 | D18: 5235 | E18: =D18*C18 -> 78525
A19: 2.11.6. | B19: Стул ученический поворотный с регулируемой высотой | C19: 30 | D19: 5250 | E19: =D19*C19 -> 157500
A20: 2.11.7. | B20: Шкаф для хранения учебных пособий | C20: 2 | D20: 13350 | E20: =D20*C20 -> 26700
A21: 2.11.8. | B21: Шкаф для хранения с выдвигающимися демонстрационными полками | C21: 1 | D21: 27600 | E21: =D21*C21 -> 27600
A22: 2.11.9. | B22: Система хранения таблиц и плакатов | C22: 1 | D22: 26250 | E22: =D22*C22 -> 26250
A23: 2.11.10. | B23: Тумба для таблиц под доску | C23: 1 | D23: 7200 | E23: =D23*C23 -> 7200
A24: 2.11.11. | B24: Боковая демонстрационная панель
A25: 2.11.12. | B25: Информационно-тематический стенд | C25: 1 | D25: 27000 | E25: =D25*C25 -> 27000
A26: ТСО (рабочее место учителя)
A27: 2.11.13. | B27: Интерактивный программно-аппаратный комплекс | C27: 1 | D27: 367500 | E27: =D27*C27 -> 367500
A28: 2.11.14. | B28: Компьютер учителя | C28: 1 | D28: 104850 | E28: =D28*C28 -> 104850
A29: 2.11.15. | B29: Планшетный компьютер учителя | D29: 0
A30: 2.11.16. | B30: Многофункциональное устройство | C30: 1 | D30: 29250 | E30: =D30*C30 -> 29250
A31: 2.11.17. | B31: Документ-камера | C31: 1 | D31: 42000 | E31: =D31*C31 -> 42000
A32: 2.11.18. | B32: Акустическая система для аудитории | D32: 0
A33: 2.11.19. | B33: Сетевой фильтр | C33: 1 | D33: 1215 | E33: =D33*C33 -> 1215
A34: 2.11.20. | B34: Средство организации беспроводной сети (Wi-Fi роутер) | C34: 1 | D34: 10500 | E34: =D34*C34 -> 10500
A35: Демонстрационное оборудование и приборы
A36: 2.11.21. | B36: Комплект инструментов и приборов топографических | C36: 1 | D36: 9600 | E36: =D36*C36 -> 9600
A37: 2.11.22. | B37: Школьная метеостанция | C37: 1 | D37: 117000 | E37: =D37*C37 -> 117000
A38: 2.11.23. | B38: Барометр-анероид | C38: 1 | D38: 3060 | E38: =D38*C38 -> 3060
A39: 2.11.24. | B39: Курвиметр | C39: 1 | D39: 795 | E39: =D39*C39 -> 795
A40: 2.11.25. | B40: Гигрометр | C40: 1 | D40: 735 | E40: =D40*C40 -> 735
A41: 2.11.26. | B41: Комплект цифрового оборудования без ноутбука | C41: 1 | D41: 108804 | E41: =D41*C41 -> 108804
A42: Лабораторное оборудование
A43: 2.11.27. | B43: Компас ученический | C43: 15 | D43: 720 | E43: =D43*C43 -> 10800
A44: 2.11.28. | B44: Рулетка | C44: 3 | D44: 900 | E44: =D44*C44 -> 2700
A45: 2.11.29. | B45: Комплект для проведения исследований окружающей среды | C45: 1 | D45: 129090 | E45: =D45*C45 -> 129090
A46: Натуральные объекты
A47: 2.11.30. | B47: Коллекция минералов и горных пород, полезных ископаемых, почв | C47: 1 | D47: 5301 | E47: =D47*C47 -> 5301
A48: Модели
A49: 2.11.31. | B49: Глобус Земли физический | C49: 1 | D49: 1083 | E49: =D49*C49 -> 1083
A50: 2.11.32. | B50: Глобус Земли политический | C50: 1 | D50: 1083 | E50: =D50*C50 -> 1083
...

Sheet 2.12. ИЗО
A11: Подраздел 12. Кабинет изобразительного искусства
A12: № п/п | B12: Наименование | C12: Кол-во* | D12: Цена, руб. | E12: Сумма, руб.
A13: Специализированная мебель и системы хранения
A14: 2.12.1. | B14: Доска классная | C14: 1 | D14: 6150 | E14: =D14*C14 -> 6150
A15: 2.12.2. | B15: Стол учителя | C15: 1 | D15: 9000 | E15: =D15*C15 -> 9000
A16: 2.12.3. | B16: Стол учителя приставной | C16: 1 | D16: 6000 | E16: =D16*C16 -> 6000
A17: 2.12.4. | B17: Кресло для учителя | C17: 1 | D17: 5250 | E17: =D17*C17 -> 5250
A18: 2.12.5. | B18: Стол ученический двухместный регулируемый по высоте и углу наклона столешницы | C18: 15 | D18: 5085 | E18: =D18*C18 -> 76275
A19: 2.12.6. | B19: Стул ученический поворотный с регулируемой высотой | C19: 30 | D19: 5250 | E19: =D19*C19 -> 157500
A20: 2.12.7. | B20: Шкаф для хранения учебных пособий | C20: 2 | D20: 13350 | E20: =D20*C20 -> 26700
A21: 2.12.8. | B21: Шкаф для хранения с выдвигающимися демонстрационными полками | C21: 1 | D21: 27600 | E21: =D21*C21 -> 27600
A22: 2.12.9. | B22: Демонстрационный стенд
A23: 2.12.10. | B23: Система хранения таблиц и плакатов | C23: 1 | D23: 26250 | E23: =D23*C23 -> 26250
A24: 2.12.11. | B24: Боковая демонстрационная панель
A25: 2.12.12. | B25: Информационно-тематический стенд
A26: ТСО (Рабочее место учителя)
A27: 2.12.13. | B27: Интерактивный программно-аппаратный комплекс | C27: 1 | D27: 367500 | E27: =D27*C27 -> 367500
A28: 2.12.14. | B28: Компьютер учителя | C28: 1 | D28: 104850 | E28: =D28*C28 -> 104850
A29: 2.12.15. | B29: Планшетный компьютер учителя
A30: 2.12.16. | B30: Многофункциональное устройство | C30: 1 | D30: 29250 | E30: =D30*C30 -> 29250
A31: 2.12.17. | B31: Документ-камера | C31: 1 | D31: 42000 | E31: =D31*C31 -> 42000
A32: 2.12.18. | B32: Акустическая система для аудитории
A33: 2.12.19. | B33: Сетевой фильтр | C33: 1 | D33: 1215 | E33: =D33*C33 -> 1215
A34: 2.12.20. | B34: Средство организации беспроводной сети (Wi-Fi роутер) | C34: 1 | D34: 10500 | E34: =D34*C34 -> 10500
A35: Демонстрационное оборудование и приборы
A36: 2.12.21. | B36: Кульман (А2) | C36: 30 | D36: 37500 | E36: =C36*D36 -> 1125000
A37: 2.12.22. | B37: Шаблон архитектурный | C37: 30 | D37: 4800 | E37: =D37*C37 -> 144000
A38: 2.12.23. | B38: Готовальня | C38: 30 | D38: 1470 | E38: =D38*C38 -> 44100
A39: 2.12.24. | B39: Линейка чертежная | C39: 30 | D39: 397.5 | E39: =D39*C39 -> 11925
A40: 2.12.25. | B40: Мольберт двухсторонний | C40: 30 | D40: 5850 | E40: =D40*C40 -> 175500
A41: Модели
A42: 2.12.26. | B42: Комплект гипсовых моделей геометрических тел | C42: 1 | D42: 16875 | E42: =D42*C42 -> 16875
A43: 2.12.27. | B43: Комплект гипсовых моделей для натюрморта | C43: 1 | D43: 27600 | E43: =D43*C43 -> 27600
A44: 2.12.28. | B44: Комплект гипсовых моделей головы | C44: 1 | D44: 30607.5 | E44: =D44*C44 -> 30607.5
A45: 2.12.29. | B45: Комплект гипсовых моделей растений | C45: 1 | D45: 16200 | E45: =D45*C45 -> 16200
A46: 2.12.30. | B46: Комплект муляжей фруктов и овощей | C46: 1 | D46: 4320 | E46: =D46*C46 -> 4320
A47: 2.12.31. | B47: Муляжи съедобных и ядовитых грибов | C47: 1 | D47: 1080 | E47: =D47*C47 -> 1080
A48: Электронные средства обучения (CD, DVD, видеофильмы, интерактивные плакаты)
A49: 2.12.32. | B49: Электронные наглядные средства для кабинета ИЗО | C49: 1 | D49: 4950 | E49: =D49*C49 -> 4950
A50: 2.12.33. | B50: Комплект учебных видеофильмов | C50: 1 | D50: 2955 | E50: =D50*C50 -> 2955
...

Sheet 2.13. Музыка
A11: Подраздел 13. Кабинет музыки
A12: № п/п | B12: Наименование | C12: Кол-во* | D12: Цена, руб. | E12: Сумма, руб.
A13: Специализированная мебель и системы хранения
A14: 2.13.1. | B14: Доска классная | C14: 1 | D14: 6150 | E14: =D14*C14 -> 6150
A15: 2.13.2. | B15: Стол учителя | C15: 1 | D15: 9000 | E15: =D15*C15 -> 9000
A16: 2.13.3. | B16: Стол учителя приставной | C16: 1 | D16: 6000 | E16: =D16*C16 -> 6000
A17: 2.13.4. | B17: Кресло для учителя | C17: 1 | D17: 5250 | E17: =D17*C17 -> 5250
A18: 2.13.5. | B18: Стол ученический двухместный регулируемый по высоте | C18: 15 | D18: 5235 | E18: =D18*C18 -> 78525
A19: 2.13.6. | B19: Стул ученический поворотный с регулируемой высотой | C19: 30 | D19: 5250 | E19: =D19*C19 -> 157500
A20: 2.13.7. | B20: Шкаф для хранения учебных пособий | C20: 2 | D20: 13350 | E20: =D20*C20 -> 26700
A21: 2.13.8. | B21: Шкаф для хранения с выдвигающимися демонстрационными полками | C21: 1 | D21: 27600 | E21: =D21*C21 -> 27600
A22: 2.13.9. | B22: Система хранения таблиц и плакатов | C22: 1 | D22: 26250 | E22: =D22*C22 -> 26250
A23: 2.13.10. | B23: Боковая демонстрационная панель
A24: 2.13.11. | B24: Информационно-тематический стенд | C24: 1 | D24: 6450 | E24: =D24*C24 -> 6450
A25: ТСО (рабочее место учителя)
A26: 2.13.12. | B26: Интерактивный программно-аппаратный комплекс | C26: 1 | D26: 367500 | E26: =D26*C26 -> 367500
A27: 2.13.13. | B27: Компьютер учителя | C27: 1 | D27: 104850 | E27: =D27*C27 -> 104850
A28: 2.13.14. | B28: Планшетный компьютер учителя
A29: 2.13.15. | B29: Многофункциональное устройство | C29: 1 | D29: 29250 | E29: =D29*C29 -> 29250
A30: 2.13.16. | B30: Документ-камера | C30: 1 | D30: 42000 | E30: =D30*C30 -> 42000
A31: 2.13.17. | B31: Акустическая система для аудитории
A32: 2.13.18. | B32: Сетевой фильтр | C32: 1 | D32: 1215 | E32: =D32*C32 -> 1215
A33: 2.13.19. | B33: Средство организации беспроводной сети (Wi-Fi роутер) | C33: 1 | D33: 10500 | E33: =D33*C33 -> 10500
A34: Демонстрационное оборудование, приборы, инструменты (музыкальные инструменты)
A35: 2.13.20. | B35: Музыкальный центр | C35: 1 | D35: 35437.5 | E35: =D35*C35 -> 35437.5
A36: 2.13.21. | B36: Набор шумовых инструментов | C36: 1 | D36: 46912.5 | E36: =D36*C36 -> 46912.5
A37: 2.13.22. | B37: Пианино акустическое | C37: 1 | D37: 119700 | E37: =D37*C37 -> 119700
A38: 2.13.23. | B38: Комплект баянов ученических | C38: 1 | D38: 67800 | E38: =D38*C38 -> 67800
A39: 2.13.24. | B39: Детский барабан | C39: 25 | D39: 1492.5 | E39: =D39*C39 -> 37312.5
A40: 2.13.25. | B40: Тамбурин | C40: 25 | D40: 1035 | E40: =D40*C40 -> 25875
A41: 2.13.26. | B41: Ксилофон | C41: 13 | D41: 3390 | E41: =D41*C41 -> 44070
A42: 2.13.27. | B42: Ударная установка | C42: 1 | D42: 72900 | E42: =D42*C42 -> 72900
A43: 2.13.28. | B43: Треугольник | C43: 25 | D43: 652.5 | E43: =D43*C43 -> 16312.5
A44: 2.13.29. | B44: Набор колокольчиков | C44: 25 | D44: 1050 | E44: =D44*C44 -> 26250
A45: 2.13.30. | B45: Скрипка 4/4 | C45: 1 | D45: 22155 | E45: =D45*C45 -> 22155
A46: 2.13.31. | B46: Скрипка 3/4 | C46: 1 | D46: 22155 | E46: =D46*C46 -> 22155
... A52: 2.13.37. | B52: Домра | C52: 1 | D52: 24630 | E52: =D52*C52 -> 24630
A53: Электронные средства обучения (CD, DVD, видеофильмы, интерактивные плакаты)
A54: 2.13.38. | B54: Электронные средства обучения для кабинета музыки | C54: 1 | D54: 9735 | E54: =D54*C54 -> 9735
A55: 2.13.39. | B55: Комплект учебных видеофильмов
...

Sheet 2.14. Физика
A11: Подраздел 14. Кабинет физики
A12: № п/п | B12: Наименование | C12: Кол-во* | D12: Цена, руб. | E12: Сумма, руб.
A13: Специализированная мебель и системы хранения
A14: 2.14.1. | B14: Система электроснабжения потолочная
A15: 2.14.2. | B15: Доска классная | C15: 1 | D15: 6150 | E15: =D15*C15 -> 6150
A16: 2.14.3. | B16: Стол демонстрационный
A17: 2.14.4. | B17: Стол учителя | C17: 1 | D17: 9000 | E17: =D17*C17 -> 9000
A18: 2.14.5. | B18: Стол учителя приставной | C18: 1 | D18: 6000 | E18: =D18*C18 -> 6000
A19: 2.14.6. | B19: Кресло для учителя | C19: 1 | D19: 5250 | E19: =D19*C19 -> 5250
A20: 2.14.7. | B20: Стол ученический регулируемый по высоте | C20: 15 | D20: 5235 | E20: =D20*C20 -> 78525
A21: 2.14.8. | B21: Стул ученический с регулируемой высотой | C21: 30 | D21: 3150 | E21: =D21*C21 -> 94500
A22: 2.14.9. | B22: Шкаф для хранения с выдвигающимися демонстрационными полками | C22: 1 | D22: 27600 | E22: =D22*C22 -> 27600
A23: 2.14.10. | B23: Шкаф для хранения учебных пособий | C23: 2 | D23: 13350 | E23: =D23*C23 -> 26700
A24: 2.14.11. | B24: Система хранения и демонстрации таблиц и плакатов | C24: 1 | D24: 26250 | E24: =D24*C24 -> 26250
A25: 2.14.12. | B25: Информационно-тематический стенд | C25: 1 | D25: 26850 | E25: =D25*C25 -> 26850
A26: 2.14.13. | B26: Огнетушитель | C26: 1 | D26: 1215 | E26: =D26*C26 -> 1215
A27: ТСО (рабочее место учителя)
A28: 2.14.14. | B28: Компьютер учителя, лицензионное программное обеспечение
A29: 2.14.15. | B29: Планшетный компьютер учителя
A30: 2.14.16. | B30: Многофункциональное устройство | C30: 1 | D30: 29250 | E30: =D30*C30 -> 29250
A31: 2.14.17. | B31: Документ-камера | C31: 1 | D31: 42000 | E31: =D31*C31 -> 42000
A32: 2.14.18. | B32: Акустическая система для аудитории
A33: 2.14.19. | B33: Сетевой фильтр | C33: 1 | D33: 1215 | E33: =D33*C33 -> 1215
A34: 2.14.20. | B34: Средство организации беспроводной сети (Wi-Fi роутер) | C34: 1 | D34: 10500 | E34: =D34*C34 -> 10500
A35: ТСО (рабочее место ученика)
A36: 2.14.21. | B36: Тележка-хранилище с системой подзарядки и вмонтированным маршрутизатором для организации беспроводной локальной сети в классе
A37: 2.14.22. | B37: Мобильный компьютер ученика | C37: 15 | D37: 38850 | E37: =D37*C37 -> 582750
A38: Демонстрационное оборудование и приборы
A39: 2.14.23. | B39: Мобильный лабораторный комплекс для учебной практической и проектной деятельности по физике | C39: 1 | D39: 149400 | E39: =D39*C39 -> 149400
A40: 2.14.24. | B40: Цифровая лаборатория для учителя | C40: 1 | D40: 340542 | E40: =D40*C40 -> 340542
A41: 2.14.25. | B41: Барометр-анероид | C41: 1 | D41: 3060 | E41: =D41*C41 -> 3060
A42: 2.14.26. | B42: Блок питания 24В регулируемый | C42: 1 | D42: 17400 | E42: =D42*C42 -> 17400
A43: 2.14.27. | B43: Веб-камера на подвижном штативе | C43: 1 | D43: 8550 | E43: =D43*C43 -> 8550
A44: 2.14.28. | B44: Весы технические с разновесами | C44: 1 | D44: 9450 | E44: =D44*C44 -> 9450
A45: 2.14.29. | B45: Видеокамера для работы с оптическими приборами (3 Мпикс) | C45: 1 | D45: 12300 | E45: =D45*C45 -> 12300
A46: 2.14.30. | B46: Генератор звуковой (0,1 Гц-100 кГц) | C46: 1 | D46: 20295 | E46: =D46*C46 -> 20295
A47: 2.14.31. | B47: Гигрометр (психрометр) ВИТ-2 | C47: 1 | D47: 735 | E47: =D47*C47 -> 735
A48: 2.14.32. | B48: Груз наборный 1 кг | C48: 1 | D48: 1440 | E48: =D48*C48 -> 1440
A49: 2.14.33. | B49: Динамометр демонстрационный (пара) | C49: 1 | D49: 4672.5 | E49: =D49*C49 -> 4672.5
A50: 2.14.34. | B50: Комплект посуды демонстрационной с принадлежностями | C50: 1 | D50: 1575 | E50: =D50*C50 -> 1575
...

Sheet 2.15. Химия
A11: Подраздел 15. Кабинет химии
A12: № п/п | B12: Наименование | C12: Кол-во* | D12: Цена, руб. | E12: Сумма, руб.
A13: Специализированная мебель и системы хранения для кабинета
A14: 2.15.1. | B14: Доска классная | C14: 1 | D14: 6150 | E14: =D14*C14 -> 6150
A15: 2.15.2. | B15: Стол демонстрационный с раковиной | C15: 1 | D15: 25350 | E15: =D15*C15 -> 25350
A16: 2.15.3. | B16: Стол демонстрационный с надстройкой
A17: 2.15.4. | B17: Стол учителя | C17: 1 | D17: 9000 | E17: =D17*C17 -> 9000
A18: 2.15.5. | B18: Стол учителя приставной | C18: 1 | D18: 6000 | E18: =D18*C18 -> 6000
A19: 2.15.6. | B19: Кресло для учителя | C19: 1 | D19: 5250 | E19: =D19*C19 -> 5250
A20: 2.15.7. | B20: Стол ученический регулируемый по высоте | C20: 15 | D20: 5085 | E20: =D20*C20 -> 76275
A21: 2.15.8. | B21: Стул ученический с регулируемой высотой | C21: 30 | D21: 3150 | E21: =D21*C21 -> 94500
A22: 2.15.9. | B22: Шкаф для хранения с выдвигающимися демонстрационными полками | C22: 1 | D22: 27600 | E22: =D22*C22 -> 27600
A23: 2.15.10. | B23: Шкаф для хранения учебных пособий | C23: 2 | D23: 13350 | E23: =D23*C23 -> 26700
A24: 2.15.11. | B24: Система хранения таблиц и плакатов | C24: 1 | D24: 26250 | E24: =D24*C24 -> 26250
A25: 2.15.12. | B25: Боковая демонстрационная панель
A26: 2.15.13. | B26: Информационно-тематический стенд | C26: 1 | D26: 25500 | E26: =D26*C26 -> 25500
A27: 2.15.14. | B27: Огнетушитель | C27: 1 | D27: 1215 | E27: =D27*C27 -> 1215
A28: ТСО (рабочее место учителя)
A29: 2.15.15. | B29: Интерактивный программно-аппаратный комплекс | C29: 1 | D29: 367500 | E29: =D29*C29 -> 367500
A30: 2.15.16. | B30: Компьютер учителя | C30: 1 | D30: 104850 | E30: =D30*C30 -> 104850
A31: 2.15.17. | B31: Планшетный компьютер учителя
A32: 2.15.18. | B32: Многофункциональное устройство | C32: 1 | D32: 29250 | E32: =D32*C32 -> 29250
A33: 2.15.19. | B33: Документ-камера | C33: 1 | D33: 42000 | E33: =D33*C33 -> 42000
A34: 2.15.20. | B34: Акустическая система для аудитории
A35: 2.15.21. | B35: Сетевой фильтр | C35: 1 | D35: 1215 | E35: =D35*C35 -> 1215
A36: 2.15.22. | B36: Средство организации беспроводной сети (Wi-Fi роутер) | C36: 1 | D36: 10500 | E36: =D36*C36 -> 10500
A37: Оборудование химической лаборатории
A38: Специализированная мебель и системы хранения для химической лаборатории
A39: 2.15.23. | B39: Стол демонстрационный с раковиной | C39: 1 | D39: 25350 | E39: =D39*C39 -> 25350
A40: 2.15.24. | B40: Стол демонстрационный с надстройкой
A41: 2.15.25. | B41: Стол учителя | C41: 1 | D41: 9000 | E41: =D41*C41 -> 9000
A42: 2.15.26. | B42: Стол приставной | C42: 1 | D42: 6000 | E42: =D42*C42 -> 6000
A43: 2.15.27. | B43: Кресло для преподавателя | C43: 1 | D43: 5250 | E43: =D43*C43 -> 5250
A44: 2.15.28. | B44: Островной стол двухсторонний с подсветкой, электроснабжением, с полками и ящиками | C44: 2 | D44: 130500 | E44: =D44*C44 -> 261000
A45: 2.15.29. | B45: Стул лабораторный с регулируемой высотой | C45: 30 | D45: 3150 | E45: =D45*C45 -> 94500
A46: 2.15.30. | B46: Шкаф вытяжной панорамный
A47: 2.15.31. | B47: Шкаф для хранения с выдвигающимися демонстрационными полками | C47: 1 | D47: 27600 | E47: =D47*C47 -> 27600
A48: 2.15.32. | B48: Шкаф для хранения учебных пособий | C48: 2 | D48: 13350 | E48: =D48*C48 -> 26700
A49: 2.15.33. | B49: Плакаты настенные | C49: 1 | D49: 7950 | E49: =D49*C49 -> 7950
A50: 2.15.34. | B50: Огнетушитель | C50: 1 | D50: 1215 | E50: =D50*C50 -> 1215
...

Sheet 2.16. Био и экол
A11: Подраздел 16. Кабинет биологии и экологии
B12: Наименование | C12: Кол-во* | D12: Цена, руб. | E12: Сумма, руб.
A13: Специализированная мебель и системы хранения
A14: 2.16.1. | B14: Доска классная | C14: 1 | D14: 6150 | E14: =D14*C14 -> 6150
A15: 2.16.2. | B15: Стол учителя | C15: 1 | D15: 9000 | E15: =D15*C15 -> 9000
A16: 2.16.3. | B16: Стол учителя приставной | C16: 1 | D16: 6000 | E16: =D16*C16 -> 6000
A17: 2.16.4. | B17: Кресло для учителя | C17: 1 | D17: 5250 | E17: =D17*C17 -> 5250
A18: 2.16.5. | B18: Стол ученический двухместный регулируемый по высоте | C18: 15 | D18: 5235 | E18: =D18*C18 -> 78525
A19: 2.16.6. | B19: Стул ученический поворотный с регулируемой высотой | C19: 30 | D19: 5250 | E19: =D19*C19 -> 157500
A20: 2.16.7. | B20: Островной стол двухсторонний с подсветкой, электроснабжением, с полками и ящиками | C20: 2 | D20: 135150 | E20: =D20*C20 -> 270300
A21: 2.16.8. | B21: Стул ученический лабораторный с регулируемой высотой | C21: 30 | D21: 3150 | E21: =D21*C21 -> 94500
A22: 2.16.9. | B22: Шкаф для хранения с выдвигающимися полками | C22: 1 | D22: 27600 | E22: =D22*C22 -> 27600
A23: 2.16.10. | B23: Шкаф для хранения учебных пособий | C23: 2 | D23: 13350 | E23: =D23*C23 -> 26700
A24: 2.16.11. | B24: Система хранения и демонстрации таблиц и плакатов | C24: 1 | D24: 26250 | E24: =D24*C24 -> 26250
A25: 2.16.12. | B25: Доска объявлений | C25: 1 | D25: 3600 | E25: =D25*C25 -> 3600
A26: ТСО (рабочее место учителя)
A27: 2.16.13. | B27: Интерактивный программно-аппаратный комплекс | C27: 1 | D27: 367500 | E27: =D27*C27 -> 367500
A28: 2.16.14. | B28: Компьютер учителя | C28: 1 | D28: 104850 | E28: =D28*C28 -> 104850
A29: 2.16.15. | B29: Планшетный компьютер учителя
A30: 2.16.16. | B30: Многофункциональное устройство | C30: 1 | D30: 29250 | E30: =D30*C30 -> 29250
A31: 2.16.17. | B31: Документ-камера | C31: 1 | D31: 42000 | E31: =D31*C31 -> 42000
A32: 2.16.18. | B32: Акустическая система для аудитории
A33: 2.16.19. | B33: Сетевой фильтр | C33: 1 | D33: 1215 | E33: =D33*C33 -> 1215
A34: 2.16.20. | B34: Средство организации беспроводной сети (Wi-Fi роутер) | C34: 1 | D34: 10500 | E34: =D34*C34 -> 10500
A35: ТСО (рабочее место ученика)
A36: 2.16.21. | B36: Тележка-хранилище с системой подзарядки и вмонтированным маршрутизатором для организации беспроводной локальной сети в классе
A37: 2.16.22. | B37: Мобильный компьютер ученика | C37: 15 | D37: 38850 | E37: =D37*C37 -> 582750
A38: Демонстрационное оборудование и приборы
A39: 2.16.23. | B39: Комплект влажных препаратов демонстрационный | C39: 1 | D39: 33084 | E39: =D39*C39 -> 33084
A40: 2.16.24. | B40: Комплект гербариев демонстрационный | C40: 1 | D40: 18753 | E40: =D40*C40 -> 18753
A41: 2.16.25. | B41: Комплект коллекций демонстрационный | C41: 1 | D41: 32386.5 | E41: =D41*C41 -> 32386.5
A42: 2.16.26. | B42: Цифровой микроскоп бинокулярный (с камерой) | C42: 1 | D42: 168000 | E42: =D42*C42 -> 168000
A43: 2.16.27. | B43: Видеокамера для работы с оптическими приборами | C43: 1 | D43: 12300 | E43: =D43*C43 -> 12300
A44: 2.16.28. | B44: Микроскоп демонстрационный | C44: 1 | D44: 22800 | E44: =D44*C44 -> 22800
A45: 2.16.29. | B45: Прибор для демонстрации водных свойств почвы | C45: 1 | D45: 1123.5 | E45: =D45*C45 -> 1123.5
A46: 2.16.30. | B46: Прибор для демонстрации всасывания воды корнями | C46: 1 | D46: 825 | E46: =D46*C46 -> 825
A47: 2.16.31. | B47: Прибор для обнаружения дыхательного газообмена у растений и животных | C47: 1 | D47: 1680 | E47: =D47*C47 -> 1680
A48: 2.16.32. | B48: Прибор для сравнения углекислого газа во вдыхаемом и выдыхаемом воздухе | C48: 1 | D48: 1003.5 | E48: =D48*C48 -> 1003.5
A49: Лабораторно-технологическое оборудование (лабораторное оборудование, приборы,
A50: наборы для эксперимента, инструменты и т.д.)
...

Sheet 2.17. Естеств
A11: Подраздел 17. Кабинет естествознания
A12: № п/п | B12: Наименование | C12: Кол-во* | D12: Цена, руб. | E12: Сумма, руб.
A13: Специализированная мебель и системы хранения
A14: 2.17.1. | B14: Школьная доска пятиэлементная
A15: 2.17.2. | B15: Кресло для преподавателя | C15: 1 | D15: 5250 | E15: =D15*C15 -> 5250
A16: 2.17.3. | B16: Стол демонстрационный | C16: 1 | D16: 9000 | E16: =D16*C16 -> 9000
A17: 2.17.4. | B17: Шкаф для хранения учебных пособий | C17: 2 | D17: 13350 | E17: =D17*C17 -> 26700
A18: 2.17.5. | B18: Шкаф для хранения с выдвигающимися полками | C18: 1 | D18: 27600 | E18: =D18*C18 -> 27600
A19: 2.17.6. | B19: Стол ученический двухместный регулируемый по высоте | C19: 15 | D19: 5085 | E19: =D19*C19 -> 76275
A20: 2.17.7. | B20: Стул ученический поворотный с регулируемой высотой | C20: 30 | D20: 5250 | E20: =D20*C20 -> 157500
A21: 2.17.8. | B21: Шкаф вытяжной панорамный
A22: 2.17.9. | B22: Лаборантский стол
A23: 2.17.10. | B23: Стенды настенные
A24: ТСО (рабочее место учителя)
A25: 2.17.11. | B25: Интерактивный программно-аппаратный комплекс | C25: 1 | D25: 367500 | E25: =D25*C25 -> 367500
A26: 2.17.12. | B26: Компьютер учителя | C26: 1 | D26: 104850 | E26: =D26*C26 -> 104850
A27: 2.17.13. | B27: Планшетный компьютер учителя
A28: 2.17.14. | B28: Многофункциональное устройство | C28: 1 | D28: 29250 | E28: =D28*C28 -> 29250
A29: 2.17.15. | B29: Документ-камера | C29: 1 | D29: 42000 | E29: =D29*C29 -> 42000
A30: 2.17.16. | B30: Акустическая система для аудитории
A31: 2.17.17. | B31: Сетевой фильтр | C31: 1 | D31: 1215 | E31: =D31*C31 -> 1215
A32: 2.17.18. | B32: Средство организации беспроводной сети (Wi-Fi роутер) | C32: 1 | D32: 10500 | E32: =D32*C32 -> 10500
A33: Демонстрационные и электронные учебные пособия
A34: 2.17.19. | B34: Комплект наглядных пособий для постоянного использования | C34: 1 | D34: 16878 | E34: =D34*C34 -> 16878
A35: 2.17.20. | B35: Методическое пособие по использованию лабораторного комплекса для учебной практической и проектной деятельности по естественнонаучным дисциплинам
A36: Оборудование общего назначения и измерительные приборы
A37: 2.17.21. | B37: Баня комбинированная лабораторная | C37: 1 | D37: 4725 | E37: =D37*C37 -> 4725
A38: 2.17.22. | B38: Штатив демонстрационный | C38: 1 | D38: 11850 | E38: =D38*C38 -> 11850
A39: 2.17.23. | B39: Зарядное устройство на 5 аккумуляторных блоков | C39: 1 | D39: 2025 | E39: =D39*C39 -> 2025
A40: 2.17.24. | B40: Источник постоянного и переменного напряжения 24В | C40: 1 | D40: 16350 | E40: =D40*C40 -> 16350
A41: 2.17.25. | B41: Доска для сушки посуды | C41: 1 | D41: 2992.5 | E41: =D41*C41 -> 2992.5
A42: 2.17.26. | B42: Устройство для хранения химических реактивов | C42: 1 | D42: 44479.5 | E42: =D42*C42 -> 44479.5
A43: 2.17.27. | B43: Барометр - анероид | C43: 1 | D43: 3060 | E43: =D43*C43 -> 3060
A44: 2.17.28. | B44: Гигрометр психометрический | C44: 1 | D44: 735 | E44: =D44*C44 -> 735
A45: 2.17.29. | B45: Весы лабораторные электронные до 500 г | C45: 1 | D45: 42600 | E45: =D45*C45 -> 42600
A46: 2.17.30. | B46: Термометр электронный | C46: 1 | D46: 10050 | E46: =D46*C46 -> 10050
A47: Демонстрационное оборудование
A48: 2.17.31. | B48: Комплект для демонстрации поверхностного натяжения | C48: 1 | D48: 1312.5 | E48: =D48*C48 -> 1312.5
A49: 2.17.32. | B49: Набор для изучения закона сохранения энергии | C49: 1 | D49: 780 | E49: =D49*C49 -> 780
A50: 2.17.33. | B50: Прибор для наблюдения равномерного движения | C50: 1 | D50: 1815 | E50: =D50*C50 -> 1815
...

Sheet 2.18. Матем
A11: Подраздел 18. Кабинет математики
A12: № п/п | B12: Наименование | C12: Кол-во* | D12: Цена, руб. | E12: Сумма, руб.
A13: Специализированная мебель и системы хранения
A14: 2.18.1. | B14: Доска классная | C14: 1 | D14: 6150 | E14: =D14*C14 -> 6150
A15: 2.18.2. | B15: Стол учителя | C15: 1 | D15: 9000 | E15: =D15*C15 -> 9000
A16: 2.18.3. | B16: Стол учителя приставной | C16: 1 | D16: 6000 | E16: =D16*C16 -> 6000
A17: 2.18.4. | B17: Кресло для учителя | C17: 1 | D17: 5250 | E17: =D17*C17 -> 5250
A18: 2.18.5. | B18: Стол ученический двухместный регулируемый по высоте | C18: 15 | D18: 5235 | E18: =D18*C18 -> 78525
A19: 2.18.6. | B19: Стул ученический поворотный с регулируемой высотой | C19: 30 | D19: 5250 | E19: =D19*C19 -> 157500
A20: 2.18.7. | B20: Шкаф для хранения учебных пособий | C20: 2 | D20: 13350 | E20: =D20*C20 -> 26700
A21: 2.18.8. | B21: Шкаф для хранения с выдвигающимися демонстрационными полками | C21: 1 | D21: 27600 | E21: =D21*C21 -> 27600
A22: 2.18.9. | B22: Система хранения и демонстрации таблиц и плакатов | C22: 1 | D22: 26250 | E22: =D22*C22 -> 26250
A23: 2.18.10. | B23: Тумба для таблиц под доску | C23: 1 | D23: 7200 | E23: =D23*C23 -> 7200
A24: 2.18.11. | B24: Комплект чертежного оборудования и приспособлений | C24: 1 | D24: 4080 | E24: =D24*C24 -> 4080
A25: 2.18.12. | B25: Информационно-тематический стенд | C25: 1 | D25: 27000 | E25: =D25*C25 -> 27000
A26: ТСО (рабочее место учителя)
A27: 2.18.13. | B27: Интерактивный программно-аппаратный комплекс | C27: 1 | D27: 367500 | E27: =D27*C27 -> 367500
A28: 2.18.14. | B28: Компьютер учителя | C28: 1 | D28: 104850 | E28: =D28*C28 -> 104850
A29: 2.18.15. | B29: Планшетный компьютер учителя
A30: 2.18.16. | B30: Многофункциональное устройство | C30: 1 | D30: 29250 | E30: =D30*C30 -> 29250
A31: 2.18.17. | B31: Документ-камера | C31: 1 | D31: 42000 | E31: =D31*C31 -> 42000
A32: 2.18.18. | B32: Акустическая система для аудитории
A33: 2.18.19. | B33: Сетевой фильтр | C33: 1 | D33: 1215 | E33: =D33*C33 -> 1215
A34: Демонстрационное оборудование и приборы
A35: 2.18.20. | B35: Комплект чертежных инструментов классных | C35: 1 | D35: 3720 | E35: =D35*C35 -> 3720
A36: 2.18.21. | B36: Метр демонстрационный | C36: 1 | D36: 570 | E36: =D36*C36 -> 570
A37: 2.18.22. | B37: Механическая рулетка 50м | C37: 1 | D37: 1125 | E37: =D37*C37 -> 1125
A38: Лабораторно-технологическое оборудование (лабораторное оборудование, приборы,
A39: наборы для эксперимента, и т.д.)
A40: 2.18.23. | B40: Цифровая лаборатория для учителя | C40: 1 | D40: 230379 | E40: =D40*C40 -> 230379
A41: Модели
A42: 2.18.24. | B42: Набор прозрачных геометрических тел с сечениями | C42: 1 | D42: 7950 | E42: =D42*C42 -> 7950
A43: 2.18.25. | B43: Набор деревянных геометрических тел | C43: 1 | D43: 870 | E43: =D43*C43 -> 870
A44: 2.18.26. | B44: Модель-аппликация по множествам | C44: 1 | D44: 1605 | E44: =D44*C44 -> 1605
A45: 2.18.27. | B45: Модель-аппликация по числовой прямой | C45: 1 | D45: 1710 | E45: =D45*C45 -> 1710
A46: 2.18.28. | B46: Модели единиц объема | C46: 1 | D46: 1567.5 | E46: =D46*C46 -> 1567.5
A47: 2.18.29. | B47: Набор для объемного представления дробей в виде кубов и шаров | C47: 1 | D47: 7050 | E47: =D47*C47 -> 7050
A48: 2.18.30. | B48: Набор по основам математики, конструирования и моделирования для класса | C48: 1 | D48: 10050 | E48: =D48*C48 -> 10050
A49: 2.18.31. | B49: Части целого на круге. Простые дроби | C49: 1 | D49: 915 | E49: =D49*C49 -> 915
A50: 2.18.32. | B50: Набор для упражнений в действиях с рациональными числами: сложение, вычитание, умножение и деление | C50: 1 | D50: 3150 | E50: =D50*C50 -> 3150
...

Sheet 2.21. Технол
A11: Подраздел 21. Кабинет технологии
A12: № п/п | B12: Наименование | C12: Кол-во* | D12: Цена, руб. | E12: Сумма, руб.
A13: Часть 1. Домоводство (кройка и шитье)
A14: Специализированная мебель и системы хранения
A15: 2.21.1. | B15: Доска настенная трехэлементная для письма мелом и маркером
A16: 2.21.2. | B16: Стол для швейного оборудования | C16: 15 | D16: 3150 | E16: =D16*C16 -> 47250
A17: 2.21.3. | B17: Табурет рабочий (винтовой механизм регулировки высоты сиденья)
A18: 2.21.4. | B18: Стол для черчения, выкроек и раскроя | C18: 1 | D18: 3855 | E18: =D18*C18 -> 3855
A19: 2.21.5. | B19: Стол учителя | C19: 1 | D19: 9000 | E19: =D19*C19 -> 9000
A20: 2.21.6. | B20: Стол учителя приставной | C20: 1 | D20: 6000 | E20: =D20*C20 -> 6000
A21: 2.21.7. | B21: Кресло для учителя | C21: 1 | D21: 5250 | E21: =D21*C21 -> 5250
A22: 2.21.8. | B22: Шкаф для хранения с выдвигающимися полками | C22: 1 | D22: 27600 | E22: =D22*C22 -> 27600
A23: 2.21.9. | B23: Шкаф для хранения учебных пособий | C23: 2 | D23: 13350 | E23: =D23*C23 -> 26700
A24: 2.21.10. | B24: Система хранения и демонстрации таблиц и плакатов | C24: 1 | D24: 26250 | E24: =D24*C24 -> 26250
A25: 2.21.11. | B25: Боковая демонстрационная панель
A26: ТСО (рабочее место учителя)
A27: 2.21.12. | B27: Интерактивный программно-аппаратный комплекс | C27: 1 | D27: 367500 | E27: =D27*C27 -> 367500
A28: 2.21.13. | B28: Компьютер учителя | C28: 1 | D28: 104850 | E28: =D28*C28 -> 104850
A29: 2.21.14. | B29: Планшетный компьютер учителя
A30: 2.21.15. | B30: Многофункциональное устройство | C30: 1 | D30: 29250 | E30: =D30*C30 -> 29250
A31: 2.21.16. | B31: Документ-камера | C31: 1 | D31: 42000 | E31: =D31*C31 -> 42000
A32: 2.21.17. | B32: Акустическая система для аудитории
A33: 2.21.18. | B33: Сетевой фильтр | C33: 1 | D33: 1500 | E33: =D33*C33 -> 1500
A34: Лабораторно-технологическое оборудование
A35: 2.21.19. | B35: Коллекции по волокнам и тканям | C35: 1 | D35: 11550 | E35: =D35*C35 -> 11550
A36: 2.21.20. | B36: Доска гладильная | C36: 2 | D36: 5850 | E36: =D36*C36 -> 11700
A37: 2.21.21. | B37: Манекен женский с подставкой (размер 42-50) | C37: 1 | D37: 29850 | E37: =D37*C37 -> 29850
A38: 2.21.22. | B38: Манекен подростковый размер (размер 36-44) | C38: 1 | D38: 29850 | E38: =D38*C38 -> 29850
A39: 2.21.23. | B39: Машина швейно-вышивальная | C39: 1 | D39: 81750 | E39: =D39*C39 -> 81750
A40: 2.21.24. | B40: Машина швейная | C40: 15 | D40: 22785 | E40: =D40*C40 -> 341775
A41: 2.21.25. | B41: Комплект для вышивания (пяльцы, холст, иглы, нити) | C41: 15 | D41: 2850 | E41: =D41*C41 -> 42750
A42: 2.21.26. | B42: Шпуля пластиковая | C42: 5 | D42: 270 | E42: =D42*C42 -> 1350
A43: 2.21.27. | B43: Коврик для швейных машин | C43: 15 | D43: 652.5 | E43: =D43*C43 -> 9787.5
A44: 2.21.28. | B44: Набор игл для швейной машины | C44: 5 | D44: 142.5 | E44: =D44*C44 -> 712.5
A45: 2.21.29. | B45: Ножницы универсальные | C45: 15 | D45: 285 | E45: =D45*C45 -> 4275
A46: 2.21.30. | B46: Ножницы закройные | C46: 5 | D46: 555 | E46: =D46*C46 -> 2775
... A54: 2.21.38. | B54: Аптечка первой помощи. | C54: 1 | D54: 5700 | E54: =D54*C54 -> 5700
A55: Демонстрационные учебно-наглядные пособия
A56: 2.21.39. | B56: Комплект таблиц демонстрационных по технологии обработки тканей | C56: 1 | D56: 23070 | E56: =D56*C56 -> 23070
A57: 2.21.40. | B57: Комплект справочников по швейному мастерству
...

Sheet 2.22. ОБЖ
A11: Подраздел 22. Кабинет ОБЖ
A12: № п/п | B12: Наименование | C12: Кол-во* | D12: Цена, руб. | E12: Сумма, руб.
A13: Специализированная мебель и системы хранения
A14: 2.22.1. | B14: Доска классная | C14: 1 | D14: 6150 | E14: =D14*C14 -> 6150
A15: 2.22.2. | B15: Стол учителя | C15: 1 | D15: 9000 | E15: =D15*C15 -> 9000
A16: 2.22.3. | B16: Стол учителя приставной | C16: 1 | D16: 6000 | E16: =D16*C16 -> 6000
A17: 2.22.4. | B17: Кресло для учителя | C17: 1 | D17: 5250 | E17: =D17*C17 -> 5250
A18: 2.22.5. | B18: Стол ученический двухместный регулируемый по высоте электрифицированный | C18: 15 | D18: 5235 | E18: =D18*C18 -> 78525
A19: 2.22.6. | B19: Стул ученический поворотный с регулируемой высотой | C19: 30 | D19: 5250 | E19: =D19*C19 -> 157500
A20: 2.22.7. | B20: Шкаф для хранения учебных пособий | C20: 2 | D20: 13350 | E20: =D20*C20 -> 26700
A21: 2.22.8. | B21: Шкаф для хранения с выдвигающимися демонстрационными полками | C21: 1 | D21: 27600 | E21: =D21*C21 -> 27600
A22: 2.22.9. | B22: Сейф оружейный | C22: 1 | D22: 18000 | E22: =D22*C22 -> 18000
A23: 2.22.10. | B23: Система хранения тренажеров
A24: 2.22.11. | B24: Система хранения таблиц и плакатов | C24: 1 | D24: 26250 | E24: =D24*C24 -> 26250
A25: 2.22.12. | B25: Тумба для таблиц под доску | C25: 1 | D25: 7200 | E25: =D25*C25 -> 7200
A26: 2.22.13. | B26: Плакаты настенные | C26: 1 | D26: 9000 | E26: =D26*C26 -> 9000
A27: 2.22.14. | B27: Боковая демонстрационная панель
A28: 2.22.15. | B28: Информационно-тематический стенд | C28: 1 | D28: 27000 | E28: =D28*C28 -> 27000
A29: ТСО (рабочее место учителя)
A30: 2.22.16. | B30: Интерактивный программно-аппаратный комплекс | C30: 1 | D30: 367500 | E30: =D30*C30 -> 367500
A31: 2.22.17. | B31: Компьютер учителя | C31: 1 | D31: 104850 | E31: =D31*C31 -> 104850
A32: 2.22.18. | B32: Планшетный компьютер учителя
A33: 2.22.19. | B33: Многофункциональное устройство | C33: 1 | D33: 29250 | E33: =D33*C33 -> 29250
A34: 2.22.20. | B34: Документ-камера | C34: 1 | D34: 42000 | E34: =D34*C34 -> 42000
A35: 2.22.21. | B35: Акустическая система для аудитории
A36: 2.22.22. | B36: Сетевой фильтр | C36: 1 | D36: 1215 | E36: =D36*C36 -> 1215
A37: 2.22.23. | B37: Средство организации беспроводной сети (Wi-Fi роутер) | C37: 1 | D37: 10500 | E37: =D37*C37 -> 10500
A38: Демонстрационное оборудование и приборы
A39: 2.22.24. | B39: Мини-экспресс-лаборатории радиационно-химической разведки | C39: 1 | D39: 113535 | E39: =D39*C39 -> 113535
A40: 2.22.25. | B40: Дозиметр | C40: 1 | D40: 10200 | E40: =D40*C40 -> 10200
A41: 2.22.26. | B41: Газоанализатор кислорода и токсичных газов с цифровой индикацией показателей | C41: 1 | D41: 96300 | E41: =D41*C41 -> 96300
A42: 2.22.27. | B42: Защитный костюм ОЗК (плащ ОП-1, чулки, перчатки Л-1) | C42: 3 | D42: 5250 | E42: =D42*C42 -> 15750
A43: 2.22.28. | B43: Измеритель электропроводности, рН и температуры | C43: 1 | D43: 33855 | E43: =D43*C43 -> 33855
A44: 2.22.29. | B44: Компас-азимут | C44: 15 | D44: 720 | E44: =D44*C44 -> 10800
A45: 2.22.30. | B45: Противогаз взрослый, фильтрующе-поглощающий | C45: 5 | D45: 5400 | E45: =D45*C45 -> 27000
A46: 2.22.31. | B46: Макет гранаты Ф-1 | C46: 1 | D46: 2655 | E46: =D46*C46 -> 2655
A47: 2.22.32. | B47: Макет гранаты РГД-5 | C47: 1 | D47: 2722.5 | E47: =D47*C47 -> 2722.5
A48: 2.22.33. | B48: Респиратор Р-2 | C48: 15 | D48: 435 | E48: =D48*C48 -> 6525
A49: Лабораторно-технологическое оборудование для оказания первой помощи
A50: 2.22.34. | B50: Дыхательная трубка (воздуховод) | C50: 5 | D50: 675 | E50: =D50*C50 -> 3375
...
