Workbook

Sheet Приказ 336
B7: ПРАЙС-ЛИСТ
B8: НА УЧЕБНОЕ ОБОРУДОВАНИЕ
B9: ДЛЯ ОСНАЩЕНИЯ ШКОЛ-НОВОСТРОЕК
B11: Наименование раздела/подраздела. Ссылка на спецификацию кабинета | C11: Стоимость одного кабинета, руб.
B12: Раздел 1. Комплекс оснащения общешкольных помещений | C12: Уточняйте
B13: Раздел 2. Комплекс оснащения предметных кабинетов | C13: Уточняйте
B14: Подраздел 1. Кабинет начальной школы | C14: ='2.1. Нач шк'!E140 -> 2734653
B15: Подраздел 2. Мобильный компьютерный класс для начальной школы | C15: Уточняйте
B16: Подраздел 3. Кабинет проектно-исследовательской деятельности в начальной школе (на базе компьютерного класса) | C16: Уточняйте
B17: Подраздел 4. Кабинет учителя- логопеда | C17: Уточняйте
B18: Подраздел 5. Активная рекреация для начальной школы | C18: Уточняйте
B19: Подраздел 6. Игровая в начальной школе | C19: Уточняйте
B20: Подраздел 7. Кабинет русского языка и литературы | C20: ='2.7. Русяз и лит'!E45 -> 1210770
B21: Подраздел 8. Кабинет иностранного языка | C21: ='2.8. Иняз'!E41 -> 969435
B22: Подраздел 9. Мобильный лингафонный класс | C22: Уточняйте
B23: Подраздел 10. Кабинет истории и обществознания | C23: ='2.10. Ист'!E46 -> 1163740.5
B24: Подраздел 11. Кабинет географии | C24: ='2.11. Геогр'!E66 -> 1729501.5
B25: Подраздел 12. Кабинет изобразительного искусства | C25: ='2.12. ИЗО'!E54 -> 2549662.5
B26: Подраздел 13. Кабинет музыки | C26: ='2.13. Музыка'!E60 -> 1563030
B27: Подраздел 14. Кабинет физики | C27: ='2.14. Физика'!E143 -> 4702392
B28: Подраздел 15. Кабинет химии | C28: ='2.15. Химия'!E184 -> 4456768.5
B29: Подраздел 16. Кабинет биологии и экологии | C29: ='2.16. Био и экол'!E94 -> 4695144
B30: Подраздел 17. Кабинет естествознания | C30: ='2.17. Естеств'!E80 -> 2458548
B31: Подраздел 18. Кабинет математики | C31: ='2.18. Матем'!E58 -> 1426531.5
B32: Подраздел 19. Кабинет информатики | C32: Уточняйте
B33: Подраздел 20. Мобильный компьютерный класс | C33: Уточняйте
B34: Подраздел 21. Кабинет технологии | C34: ='2.21. Технол'!E321 -> 6706866
B35: Подраздел 22. Кабинет ОБЖ | C35: ='2.22. ОБЖ'!E81 -> 1983859.5
B36: Подраздел 23. Профильные классы | C36: Уточняйте
B37: Раздел 3. Комплекс лабораторий и студий для внеурочной деятельности | C37: Уточняйте
B38: Раздел 4. Комплекс оборудования для обучающихся с ОВЗ и инвалидностью | C38: Уточняйте

Sheet 2.1. Нач шк
A11: Подраздел 1. Кабинет начальной школы
B12: Наименование | C12: Кол-во* | E12: Сумма, руб.
B13: Специализированная мебель и система хранения
A14: 2.1.1. | B14: Доска классная | C14: 1 | D14: 6300 | E14: =D14*C14 -> 6300
A15: 2.1.2. | B15: Стол учителя | C15: 1 | D15: 9000 | E15: =D15*C15 -> 9000
A16: 2.1.3. | B16: Стол учителя приставной | C16: 1 | D16: 6000 | E16: =D16*C16 -> 6000
A17: 2.1.4. | B17: Кресло для учителя | C17: 1 | D17: 5250 | E17: =D17*C17 -> 5250
A18: 2.1.5. | B18: Парта школьная регулируемая или конторка | C18: 15 | D18: 5085 | E18: =D18*C18 -> 76275
A19: 2.1.6. | B19: Стул ученический для начальной школы | C19: 30 | D19: 1650 | E19: =D19*C19 -> 49500
A20: 2.1.7. | B20: Шкаф для хранения учебных пособий | C20: 2 | D20: 13350 | E20: =D20*C20 -> 26700
A21: 2.1.8. | B21: Шкаф для хранения с выдвигающимися демонстрационными полками | C21: 1 | D21: 27600 | E21: =D21*C21 -> 27600
A22: 2.1.9. | B22: Стеллаж демонстрационный
A23: 2.1.10. | B23: Информационно-тематический стенд | C23: 1 | D23: 8250 | E23: =D23*C23 -> 8250
A24: 2.1.11. | B24: Тумба для таблиц под доску | C24: 1 | D24: 7200 | E24: =D24*C24 -> 7200
A25: 2.1.12. | B25: Система демонстрации и хранения таблиц и плакатов | C25: 1 | D25: 26250 | E25: =D25*C25 -> 26250
B26: ТСО (рабочее место учителя)
A27: 2.1.13. | B27: Интерактивный программно-аппаратный комплекс | C27: 1 | D27: 367500 | E27: =D27*C27 -> 367500
A28: 2.1.14. | B28: Компьютер учителя | C28: 1 | D28: 104850 | E28: =D28*C28 -> 104850
A29: 2.1.15. | B29: Планшетный компьютер учителя | C29: 1 | D29: 44250 | E29: =D29*C29 -> 44250
A30: 2.1.16. | B30: Многофункциональное устройство | C30: 1 | D30: 29250 | E30: =D30*C30 -> 29250
A31: 2.1.17. | B31: Документ-камера | C31: 1 | D31: 42000 | E31: =D31*C31 -> 42000
A32: 2.1.18. | B32: Акустическая система для аудитории
A33: 2.1.19. | B33: Сетевой фильтр | C33: 1 | D33: 1215 | E33: =D33*C33 -> 1215
B34: Комплекс учебных и наглядных пособий для кабинета начальной школы
B35: Электронные средства обучения (CD, DVD, видеофильмы, интерактивные плакаты)
A36: 2.1.20. | B36: Электронные образовательные комплексы для кабинета начальной школы | C36: 1 | D36: 245025 | E36: =D36*C36 -> 245025
B37: Предметная область Филология
B38: Предметы "Русский язык". "Родной язык"
B39: Демонстрационные учебно-наглядные пособия
A40: 2.1.21. | B40: Демонстрационные учебные таблицы по русскому языку и литературному чтению для начальной школы | C40: 1 | D40: 33660 | E40: =D40*C40 -> 33660
A41: 2.1.22. | B41: Демонстрационные пособия по русскому языку и литературному чтению для начальной школы | C41: 1 | D41: 3562.5 | E41: =D41*C41 -> 3562.5
A42: 2.1.23. | B42: Сюжетные (предметные) картинки по русскому языку и литературному чтению | C42: 1 | D42: 6000 | E42: =D42*C42 -> 6000
A43: 2.1.24. | B43: Репродукции картин и художественных фотографий | C43: 1 | D43: 10200 | E43: =D43*C43 -> 10200
A44: 2.1.25. | B44: Раздаточные карточки с буквами русского алфавита | C44: 1 | D44: 19800 | E44: =D44*C44 -> 19800
A45: 2.1.26. | B45: Справочники и энциклопедии по русскому языку и литературному чтению для начальной школы | C45: 1 | D45: 1800 | E45: =D45*C45 -> 1800
A46: 2.1.27. | B46: Словари для учителя начальной школы | C46: 1 | D46: 3450 | E46: =D46*C46 -> 3450
A47: 2.1.28. | B47: Словари раздаточные для кабинета начальной школы | C47: 15 | D47: 3450 | E47: =D47*C47 -> 51750
B48: Игры
A49: 2.1.29. | B49: Игровой набор по развитию речи | C49: 7 | D49: 24300 | E49: =D49*C49 -> 170100
A50: 2.1.30. | B50: Настольные лингвистические игры | C50: 7 | D50: 3015 | E50: =D50*C50 -> 21105
A51: 2.1.31. | B51: Игровые наборы по учебному предмету, рекомендованные для детей младшего школьного возраста | C51: 7 | D51: 5400 | E51: =D51*C51 -> 37800
A52: 2.1.32. | B52: Модель-аппликация демонстрационная по обучению грамоте родного языка | C52: 1 | D52: 2625 | E52: =D52*C52 -> 2625
A53: 2.1.33. | B53: Демонстрационные учебные таблицы по родному языку для начальной школы
A54: 2.1.34. | B54: Демонстрационные пособия по родному языку для начальной школы
A55: 2.1.35. | B55: Сюжетные (предметные) картинки по родному языку
A56: 2.1.36. | B56: Раздаточные карточки с буквами родного алфавита
A57: 2.1.37. | B57: Справочники, словари и энциклопедии по родному языку и истории родного края для начальной школы
B58: Предметы "Литературное чтение", "Литературное чтение на родном языке"
A59: 2.1.38. | B59: Комплект демонстрационных учебных таблиц по литературному чтению для начальной школы
A60: 2.1.39. | B60: Комплект портретов | C60: 1 | D60: 2692.5 | E60: =D60*C60 -> 2692.5
A61: 2.1.40. | B61: Репродукции
B62: Игры
A63: 2.1.41. | B63: Игровой набор по развитию речи | C63: 1 | D63: 825 | E63: =D63*C63 -> 825
A64: 2.1.42. | B64: Игровые наборы по учебному предмету, рекомендованные для детей младшего школьного возраста | C64: 1 | D64: 10350 | E64: =D64*C64 -> 10350
B65: Предмет "Иностранный язык"
B66: Модели объемные, плоские (аппликации)
A67: 2.1.43. | B67: Модель-аппликация демонстрационная по иностранному языку | C67: 1 | D67: 1236 | E67: =D67*C67 -> 1236
B68: Демонстрационные учебно-наглядные пособия
A69: 2.1.44. | B69: Демонстрационные учебные таблицы по иностранному языку для начальной школы | C69: 1 | D69: 13200 | E69: =D69*C69 -> 13200
A70: 2.1.45. | B70: Демонстрационные пособия по иностранному языку для начальной школы | C70: 1 | D70: 12022.5 | E70: =D70*C70 -> 12022.5
A71: 2.1.46. | B71: Раздаточные предметные карточки | C71: 1 | D71: 10500 | E71: =D71*C71 -> 10500
A72: 2.1.47. | B72: Словари по иностранному языку | C72: 1 | D72: 1815 | E72: =D72*C72 -> 1815
B73: Игры
A74: 2.1.48. | B74: Игровые наборы на изучаемом иностранном языке | C74: 7 | D74: 3600 | E74: =D74*C74 -> 25200
A75: 2.1.49. | B75: Куклы-персонажи | C75: 1 | D75: 13200 | E75: =D75*C75 -> 13200
B76: Предметная область "Математика и информатика"
B77: Предмет "Математика"
B78: Демонстрационное оборудование и приборы
A79: 2.1.50. | B79: Комплект чертежного оборудования и приспособлений | C79: 1 | D79: 2505 | E79: =D79*C79 -> 2505
B80: Модели
A81: 2.1.51. | B81: Модель-аппликация (касса) цифр демонстрационная | C81: 1 | D81: 2100 | E81: =D81*C81 -> 2100
A82: 2.1.52. | B82: Модель-аппликация демонстрационная по множествам | C82: 1 | D82: 1605 | E82: =D82*C82 -> 1605
A83: 2.1.53. | B83: Геометрические тела демонстрационные | C83: 1 | D83: 6708 | E83: =D83*C83 -> 6708
A84: 2.1.54. | B84: Модели раздаточные по математике для начальной школы | C84: 15 | D84: 15915 | E84: =D84*C84 -> 238725
B85: Демонстрационные учебно-наглядные пособия
A86: 2.1.55. | B86: Демонстрационные учебные таблицы по математике для начальной школы | C86: 1 | D86: 15900 | E86: =D86*C86 -> 15900
A87: 2.1.56. | B87: Демонстрационные пособия по математике для начальной школы | C87: 1 | D87: 2100 | E87: =D87*C87 -> 2100
A88: 2.1.57. | B88: Раздаточные карточки с цифрами и математическими знаками | C88: 2 | D88: 12000 | E88: =D88*C88 -> 24000
A89: 2.1.58. | B89: Справочники по математике для начальной школы | C89: 1 | D89: 1335 | E89: =D89*C89 -> 1335
B90: Игры
A91: 2.1.59. | B91: Игровой набор по математике | C91: 15 | D91: 1650 | E91: =D91*C91 -> 24750
A92: 2.1.60. | B92: Комплект настольных развивающих игр по математике | C92: 15 | D92: 1650 | E92: =D92*C92 -> 24750
B93: Предметная область "Основы религиозных культур и светской этики"
B94: Предмет "Основы религиозных культур и светской этики"
B95: Демонстрационные учебно-наглядные пособия
A96: 2.1.61. | B96: Репродукции
A97: 2.1.62. | B97: Комплект демонстрационных пособий по ОРКСЭ | C97: 1 | D97: 3960 | E97: =D97*C97 -> 3960
A98: 2.1.63. | B98: Комплект раздаточных пособий по ОРКСЭ | C98: 1 | D98: 4725 | E98: =D98*C98 -> 4725
A99: 2.1.64. | B99: Справочники и энциклопедии | C99: 1 | D99: 1800 | E99: =D99*C99 -> 1800
B100: Предметная область "Естествознание и Обществознание" ("Окружающий мир")
B101: Предмет "Окружающий мир"
B102: Демонстрационное оборудование и приборы
A103: 2.1.65. | B103: Комплект демонстрационного оборудования по окружающему миру для начальной школы | C103: 1 | D103: 20175 | E103: =D103*C103 -> 20175
A104: 2.1.66. | B104: Цифровая лаборатория для начальных классов по естествознанию | C104: 1 | D104: 343960.5 | E104: =D104*C104 -> 343960.5
B105: Натуральные объекты
A106: 2.1.67. | B106: Коллекции и гербарии | C106: 1 | D106: 14436 | E106: =D106*C106 -> 14436
B107: Лабораторно-технологическое оборудование (лабораторное оборудование,
B108: приборы, наборы для эксперимента и т.д.)
A109: 2.1.68. | B109: Оборудование и наборы для экспериментов | C109: 15 | D109: 14010 | E109: =D109*C109 -> 210150
B110: Модели
...

Sheet 2.7. Русяз и лит
A11: Подраздел 7. Кабинет русского языка и литературы
A12: № п/п | B12: Наименование | C12: Кол-во* | D12: Цена, руб. | E12: Сумма, руб.
A13: Специализированная мебель и системы хранения
A14: 2.7.1. | B14: Доска классная | C14: 1 | D14: 6150 | E14: =D14*C14 -> 6150
A15: 2.7.2. | B15: Стол учителя | C15: 1 | D15: 9000 | E15: =D15*C15 -> 9000
A16: 2.7.3. | B16: Стол учителя приставной | C16: 1 | D16: 6000 | E16: =D16*C16 -> 6000
A17: 2.7.4. | B17: Кресло для учителя | C17: 1 | D17: 5250 | E17: =D17*C17 -> 5250
A18: 2.7.5. | B18: Стол ученический двухместный регулируемый по высоте | C18: 15 | D18: 5085 | E18: =D18*C18 -> 76275
A19: 2.7.6. | B19: Стул ученический с регулируемой высотой | C19: 30 | D19: 3150 | E19: =D19*C19 -> 94500
A20: 2.7.7. | B20: Шкаф для хранения учебных пособий | C20: 2 | D20: 13350 | E20: =D20*C20 -> 26700
A21: 2.7.8. | B21: Шкаф для хранения с выдвигающимися демонстрационными полками | C21: 1 | D21: 27600 | E21: =D21*C21 -> 27600
A22: 2.7.9. | B22: Тумба для таблиц под доску | C22: 1 | D22: 7200 | E22: =D22*C22 -> 7200
A23: 2.7.10. | B23: Система хранения таблиц и плакатов | C23: 1 | D23: 26250 | E23: =D23*C23 -> 26250
A24: 2.7.11. | B24: Боковая демонстрационная панель
A25: 2.7.12. | B25: Информационно-тематический стенд | C25: 1 | D25: 25500 | E25: =D25*C25 -> 25500
A26: ТСО (рабочее место учителя)
A27: 2.7.13. | B27: Интерактивный программно-аппаратный комплекс | C27: 1 | D27: 367500 | E27: =D27*C27 -> 367500
A28: 2.7.14. | B28: Компьютер учителя | C28: 1 | D28: 104850 | E28: =D28*C28 -> 104850
A29: 2.7.15. | B29: Планшетный компьютер учителя
A30: 2.7.16. | B30: Многофункциональное устройство | C30: 1 | D30: 29250 | E30: =D30*C30 -> 29250
A31: 2.7.17. | B31: Документ-камера | C31: 1 | D31: 42000 | E31: =D31*C31 -> 42000
A32: 2.7.18. | B32: Акустическая система для аудитории | D32: 0
A33: 2.7.19. | B33: Сетевой фильтр | C33: 1 | D33: 1215 | E33: =D33*C33 -> 1215
A34: Электронные средства обучения (CD, DVD, видеофильмы, интерактивные плакаты)
A35: 2.7.20. | B35: Электронные средства обучения (CD, DVD, видеофильмы, интерактивные плакаты) для кабинета русского языка и литературы | C35: 1 | D35: 84375 | E35: =D35*C35 -> 84375
A36: 2.7.21. | B36: Видеофильмы учебные по литературе | C36: 1 | D36: 7605 | E36: =D36*C36 -> 7605
A37: Демонстрационные учебно-наглядные пособия
A38: 2.7.22. | B38: Демонстрационные учебные таблицы по русскому языку и литературе | C38: 1 | D38: 112335 | E38: =D38*C38 -> 112335
A39: 2.7.23. | B39: Демонстрационные материалы по литературе | C39: 1 | D39: 17415 | E39: =D39*C39 -> 17415
A40: 2.7.24. | B40: Портреты писателей, литературоведов и лингвистов | C40: 1 | D40: 10725 | E40: =D40*C40 -> 10725
A41: 2.7.25. | B41: Словари языковые фундаментальные | C41: 1 | D41: 10875 | E41: =D41*C41 -> 10875
A42: 2.7.26. | B42: Словари, справочники, энциклопедии языковые и литературоведческие для учителей и учеников 9-11 классов | C42: 1 | D42: 17400 | E42: =D42*C42 -> 17400
A43: 2.7.27. | B43: Словари школьные раздаточные для 5-11 классов | C43: 15 | D43: 5640 | E43: =D43*C43 -> 84600
A44: 2.7.28. | B44: Комплект репродукций картин для уроков развития речи и литературы | C44: 1 | D44: 10200 | E44: =D44*C44 -> 10200
B45: ИТОГО | E45: =SUM(E13:E44) -> 1210770

Sheet 2.8. Иняз
A11: Подраздел 8. Кабинет иностранного языка
A12: № п/п | B12: Наименование | C12: Кол-во* | D12: Цена, руб. | E12: Сумма, руб.
A13: Специализированная мебель и системы хранения
A14: 2.8.1. | B14: Доска классная | C14: 1 | D14: 6150 | E14: =D14*C14 -> 6150
A15: 2.8.2. | B15: Стол учителя | C15: 1 | D15: 9000 | E15: =D15*C15 -> 9000
A16: 2.8.3. | B16: Стол учителя приставной | C16: 1 | D16: 6000 | E16: =D16*C16 -> 6000
A17: 2.8.4. | B17: Кресло для учителя | C17: 1 | D17: 5250 | E17: =D17*C17 -> 5250
A18: 2.8.5. | B18: Стол ученический двухместный регулируемый по высоте | C18: 15 | D18: 5235 | E18: =D18*C18 -> 78525
A19: 2.8.6. | B19: Стул ученический поворотный с регулируемой высотой | C19: 30 | D19: 5250 | E19: =D19*C19 -> 157500
A20: 2.8.7. | B20: Шкаф для хранения учебных пособий | C20: 2 | D20: 13350 | E20: =D20*C20 -> 26700
A21: 2.8.8. | B21: Система хранения таблиц и плакатов | C21: 1 | D21: 26250 | E21: =D21*C21 -> 26250
A22: 2.8.9. | B22: Боковая демонстрационная панель
A23: 2.8.10. | B23: Информационно-тематический стенд | C23: 1 | D23: 26850 | E23: =D23*C23 -> 26850
A24: ТСО (рабочее место учителя)
A25: 2.8.11. | B25: Интерактивный программно-аппаратный комплекс | C25: 1 | D25: 367500 | E25: =D25*C25 -> 367500
A26: 2.8.12. | B26: Компьютер учителя | C26: 1 | D26: 104850 | E26: =D26*C26 -> 104850
A27: 2.8.13. | B27: Планшетный компьютер учителя | D27: 0
A28: 2.8.14. | B28: Многофункциональное устройство | C28: 1 | D28: 29250 | E28: =D28*C28 -> 29250
A29: 2.8.15. | B29: Документ-камера | C29: 1 | D29: 42000 | E29: =D29*C29 -> 42000
A30: 2.8.16. | B30: Акустическая система для аудитории | D30: 0
A31: 2.8.17. | B31: Сетевой фильтр | C31: 1 | D31: 1215 | E31: =D31*C31 -> 1215
A32: Электронные средства обучения (CD, DVD, видеофильмы, интерактивные плакаты)
A33: 2.8.18. | B33: Электронные средства обучения (CD, DVD, видеофильмы, интерактивные плакаты) для кабинета иностранного языка | C33: 1 | D33: 16500 | E33: =D33*C33 -> 16500
A34: 2.8.19. | B34: Видеофильмы учебные по иностранному языку | C34: 1 | D34: 3345 | E34: =D34*C34 -> 3345
A35: Демонстрационные учебно-наглядные пособия
A36: 2.8.20. | B36: Таблицы демонстрационные | C36: 1 | D36: 16500 | E36: =D36*C36 -> 16500
A37: 2.8.21. | B37: Карты | C37: 1 | D37: 34800 | E37: =D37*C37 -> 34800
A38: 2.8.22. | B38: Портреты иностранных писателей | C38: 1 | D38: 6900 | E38: =D38*C38 -> 6900
A39: 2.8.23. | B39: Таблицы раздаточные
A40: 2.8.24. | B40: Комплект словарей | C40: 1 | D40: 4350 | E40: =D40*C40 -> 4350
B41: ИТОГО | E41: =SUM(E14:E40) -> 969435

Sheet 2.10. Ист
A11: Подраздел 10. Кабинет истории и обществознания
B12: Наименование | C12: Кол-во* | D12: Цена, руб. | E12: Сумма, руб.
A13: Специализированная мебель и системы хранения
A14: 2.10.1. | B14: Доска классная | C14: 1 | D14: 6150 | E14: =D14*C14 -> 6150
A15: 2.10.2. | B15: Стол учителя | C15: 1 | D15: 9000 | E15: =D15*C15 -> 9000
A16: 2.10.3. | B16: Стол учителя приставной | C16: 1 | D16: 6000 | E16: =D16*C16 -> 6000
A17: 2.10.4. | B17: Кресло для учителя | C17: 1 | D17: 5250 | E17: =D17*C17 -> 5250
A18: 2.10.5. | B18: Стол ученический двухместный регулируемый по высоте | C18: 15 | D18: 5235 | E18: =D18*C18 -> 78525
A19: 2.10.6. | B19: Стул ученический с регулируемой высотой | C19: 30 | D19: 3150 | E19: =D19*C19 -> 94500
A20: 2.10.7. | B20: Шкаф для хранения учебных пособий | C20: 2 | D20: 13350 | E20: =D20*C20 -> 26700
A21: 2.10.8. | B21: Шкаф для хранения с выдвигающимися демонстрационными полками | C21: 1 | D21: 27600 | E21: =D21*C21 -> 27600
A22: 2.10.9. | B22: Система хранения таблиц и плакатов | C22: 1 | D22: 26250 | E22: =D22*C22 -> 26250
A23: 2.10.10. | B23: Тумба для таблиц под доску | C23: 1 | D23: 7200 | E23: =D23*C23 -> 7200
A24: 2.10.11. | B24: Информационно-тематический стенд | C24: 1 | D24: 5850 | E24: =D24*C24 -> 5850
A25: ТСО (рабочее место учителя) | D25: 0
A26: 2.10.12. | B26: Интерактивный программно-аппаратный комплекс | C26: 1 | D26: 367500 | E26: =D26*C26 -> 367500
A27: 2.10.13. | B27: Компьютер учителя | C27: 1 | D27: 104850 | E27: =D27*C27 -> 104850
A28: 2.10.14. | B28: Планшетный компьютер учителя | D28: 0
A29: 2.10.15. | B29: Многофункциональное устройство | C29: 1 | D29: 29250 | E29: =D29*C29 -> 29250
A30: 2.10.16. | B30: Документ-камера | C30: 1 | D30: 42000 | E30: =D30*C30 -> 42000
A31: 2.10.17. | B31: Акустическая система для аудитории | D31: 0
A32: 2.10.18. | B32: Сетевой фильтр | C32: 1 | D32: 1215 | E32: =D32*C32 -> 1215
A33: Демонстрационные учебно-наглядные пособия | D33: 0
A34: 2.10.19. | B34: Портреты исторических деятелей | C34: 1 | D34: 5250 | E34: =D34*C34 -> 5250
A35: 2.10.20. | B35: Карты демонстрационные по курсу истории и обществознания | C35: 1 | D35: 32760 | E35: =D35*C35 -> 32760
A36: 2.10.21. | B36: Таблицы и картины демонстрационные по курсу истории и обществознания | C36: 1 | D36: 22800 | E36: =D36*C36 -> 22800
A37: 2.10.22. | B37: Справочники | C37: 1 | D37: 3535.5 | E37: =D37*C37 -> 3535.5
A38: 2.10.23. | B38: Таблицы раздаточные по курсу истории и обществознания | C38: 15 | D38: 10500 | E38: =D38*C38 -> 157500
A39: 2.10.24. | B39: Атлас по истории с Комплектом контурных карт | C39: 15 | D39: 1740 | E39: =D39*C39 -> 26100
A40: 2.10.25. | B40: Конституция РФ | C40: 15 | D40: 75 | E40: =D40*C40 -> 1125
A41: 2.10.26. | B41: Кодекс РФ по праву | C41: 15 | D41: 675 | E41: =D41*C41 -> 10125
A42: Электронные средства обучения (CD, DVD, видеофильмы, интерактивные плакаты) | D42: 0
A43: 2.10.27. | B43: Электронные средства обучения (CD, DVD, видеофильмы, интерактивные плакаты) для кабинета истории и обществознания | C43: 1 | D43: 41250 | E43: =D43*C43 -> 41250
A44: 2.10.28. | B44: Государственные символы Российской Федерации | C44: 1 | D44: 12900 | E44: =D44*C44 -> 12900
A45: 2.10.29. | B45: Комплект учебных видео фильмов по курсу истории и обществознания | C45: 1 | D45: 12555 | E45: =D45*C45 -> 12555
B46: ИТОГО | E46: =SUM(E14:E45) -> 1163740.5

Sheet 2.11. Геогр
A11: Подраздел 11. Кабинет географии
A12: № п/п | B12: Наименование | C12: Кол-во* | D12: Цена, руб. | E12: Сумма, руб.
A13: Специализированная мебель и системы хранения
A14: 2.11.1. | B14: Доска классная | C14: 1 | D14: 6150 | E14: =D14*C14 -> 6150
A15: 2.11.2. | B15: Стол учителя | C15: 1 | D15: 9000 | E15: =D15*C15 -> 9000
A16: 2.11.3. | B16: Стол учителя приставной | C16: 1 | D16: 6000 | E16: =D16*C16 -> 6000
A17: 2.11.4. | B17: Кресло для учителя | C17: 1 | D17: 5250 | E17: =D17*C17 -> 5250
A18: 2.11.5. | B18: Стол ученический двухместный регулируемый по высоте | C18: 15 | D18: 5235 | E18: =D18*C18 -> 78525
A19: 2.11.6. | B19: Стул ученический поворотный с регулируемой высотой | C19: 30 | D19: 5250 | E19: =D19*C19 -> 157500
A20: 2.11.7. | B20: Шкаф для хранения учебных пособий | C20: 2 | D20: 13350 | E20: =D20*C20 -> 26700
A21: 2.11.8. | B21: Шкаф для хранения с выдвигающимися демонстрационными полками | C21: 1 | D21: 27600 | E21: =D21*C21 -> 27600
A22: 2.11.9. | B22: Система хранения таблиц и плакатов | C22: 1 | D22: 26250 | E22: =D22*C22 -> 26250
A23: 2.11.10. | B23: Тумба для таблиц под доску | C23: 1 | D23: 7200 | E23: =D23*C23 -> 7200
A24: 2.11.11. | B24: Боковая демонстрационная панель
A25: 2.11.12. | B25: Информационно-тематический стенд | C25: 1 | D25: 27000 | E25: =D25*C25 -> 27000
A26: ТСО (рабочее место учителя)
A27: 2.11.13. | B27: Интерактивный программно-аппаратный комплекс | C27: 1 | D27: 367500 | E27: =D27*C27 -> 367500
A28: 2.11.14. | B28: Компьютер учителя | C28: 1 | D28: 104850 | E28: =D28*C28 -> 104850
A29: 2.11.15. | B29: Планшетный компьютер учителя | D29: 0
A30: 2.11.16. | B30: Многофункциональное устройство | C30: 1 | D30: 29250 | E30: =D30*C30 -> 29250
A31: 2.11.17. | B31: Документ-камера | C31: 1 | D31: 42000 | E31: =D31*C31 -> 42000
A32: 2.11.18. | B32: Акустическая система для аудитории | D32: 0
A33: 2.11.19. | B33: Сетевой фильтр | C33: 1 | D33: 1215 | E33: =D33*C33 -> 1215
A34: 2.11.20. | B34: Средство организации беспроводной сети (Wi-Fi роутер) | C34: 1 | D34: 10500 | E34: =D34*C34 -> 10500
A35: Демонстрационное оборудование и приборы
A36: 2.11.21. | B36: Комплект инструментов и приборов топографических | C36: 1 | D36: 9600 | E36: =D36*C36 -> 9600
A37: 2.11.22. | B37: Школьная метеостанция | C37: 1 | D37: 117000 | E37: =D37*C37 -> 117000
A38: 2.11.23. | B38: Барометр-анероид | C38: 1 | D38: 3060 | E38: =D38*C38 -> 3060
A39: 2.11.24. | B39: Курвиметр | C39: 1 | D39: 795 | E39: =D39*C39 -> 795
A40: 2.11.25. | B40: Гигрометр | C40: 1 | D40: 735 | E40: =D40*C40 -> 735
A41: 2.11.26. | B41: Комплект цифрового оборудования без ноутбука | C41: 1 | D41: 108804 | E41: =D41*C41 -> 108804
A42: Лабораторное оборудование
A43: 2.11.27. | B43: Компас ученический | C43: 15 | D43: 720 | E43: =D43*C43 -> 10800
A44: 2.11.28. | B44: Рулетка | C44: 3 | D44: 900 | E44: =D44*C44 -> 2700
A45: 2.11.29. | B45: Комплект для проведения исследований окружающей среды | C45: 1 | D45: 129090 | E45: =D45*C45 -> 129090
A46: Натуральные объекты
A47: 2.11.30. | B47: Коллекция минералов и горных пород, полезных ископаемых, почв | C47: 1 | D47: 5301 | E47: =D47*C47 -> 5301
A48: Модели
A49: 2.11.31. | B49: Глобус Земли физический | C49: 1 | D49: 1083 | E49: =D49*C49 -> 1083
A50: 2.11.32. | B50: Глобус Земли политический | C50: 1 | D50: 1083 | E50: =D50*C50 -> 1083
A51: 2.11.33. | B51: Глобус Земли физический лабораторный | C51: 15 | D51: 567 | E51: =D51*C51 -> 8505
A52: 2.11.34. | B52: Теллурий | C52: 1 | D52: 5100 | E52: =D52*C52 -> 5100
A53: 2.11.35. | B53: Модель строения земных складок и эволюции рельефа | C53: 1 | D53: 4650 | E53: =D53*C53 -> 4650
A54: 2.11.36. | B54: Модель движения океанических плит | C54: 1 | D54: 5775 | E54: =D54*C54 -> 5775
A55: 2.11.37. | B55: Модель вулкана | C55: 1 | D55: 7899 | E55: =D55*C55 -> 7899
A56: 2.11.38. | B56: Модель внутреннего строения Земли | C56: 1 | D56: 5925 | E56: =D56*C56 -> 5925
A57: 2.11.39. | B57: Модель-аппликация природных зон Земли | C57: 1 | D57: 3667.5 | E57: =D57*C57 -> 3667.5
A58: Демонстрационные учебно-наглядные пособия
A59: 2.11.40. | B59: Портреты для кабинета географии | C59: 1 | D59: 2535 | E59: =D59*C59 -> 2535
A60: 2.11.41. | B60: Карты настенные | C60: 1 | D60: 50250 | E60: =D60*C60 -> 50250
A61: 2.11.42. | B61: Таблицы учебные демонстрационные | C61: 1 | D61: 26730 | E61: =D61*C61 -> 26730
A62: 2.11.43. | B62: Таблицы раздаточные | C62: 15 | D62: 12000 | E62: =D62*C62 -> 180000
A63: Электронные средства обучения (CD, DVD, видеофильмы, интерактивные плакаты)
A64: 2.11.44. | B64: Электронные наглядные средства для кабинета географии | C64: 1 | D64: 102085.5 | E64: =D64*C64 -> 102085.5
A65: 2.11.45. | B65: Комплект учебных видео фильмов по курсу география | C65: 1 | D65: 3838.5 | E65: =D65*C65 -> 3838.5
B66: ИТОГО | E66: =SUM(E13:E65) -> 1729501.5

Sheet 2.12. ИЗО
A11: Подраздел 12. Кабинет изобразительного искусства
A12: № п/п | B12: Наименование | C12: Кол-во* | D12: Цена, руб. | E12: Сумма, руб.
A13: Специализированная мебель и системы хранения
A14: 2.12.1. | B14: Доска классная | C14: 1 | D14: 6150 | E14: =D14*C14 -> 6150
A15: 2.12.2. | B15: Стол учителя | C15: 1 | D15: 9000 | E15: =D15*C15 -> 9000
A16: 2.12.3. | B16: Стол учителя приставной | C16: 1 | D16: 6000 | E16: =D16*C16 -> 6000
A17: 2.12.4. | B17: Кресло для учителя | C17: 1 | D17: 5250 | E17: =D17*C17 -> 5250
A18: 2.12.5. | B18: Стол ученический двухместный регулируемый по высоте и углу наклона столешницы | C18: 15 | D18: 5085 | E18: =D18*C18 -> 76275
A19: 2.12.6. | B19: Стул ученический поворотный с регулируемой высотой | C19: 30 | D19: 5250 | E19: =D19*C19 -> 157500
A20: 2.12.7. | B20: Шкаф для хранения учебных пособий | C20: 2 | D20: 13350 | E20: =D20*C20 -> 26700
A21: 2.12.8. | B21: Шкаф для хранения с выдвигающимися демонстрационными полками | C21: 1 | D21: 27600 | E21: =D21*C21 -> 27600
A22: 2.12.9. | B22: Демонстрационный стенд
A23: 2.12.10. | B23: Система хранения таблиц и плакатов | C23: 1 | D23: 26250 | E23: =D23*C23 -> 26250
A24: 2.12.11. | B24: Боковая демонстрационная панель
A25: 2.12.12. | B25: Информационно-тематический стенд
A26: ТСО (Рабочее место учителя)
A27: 2.12.13. | B27: Интерактивный программно-аппаратный комплекс | C27: 1 | D27: 367500 | E27: =D27*C27 -> 367500
A28: 2.12.14. | B28: Компьютер учителя | C28: 1 | D28: 104850 | E28: =D28*C28 -> 104850
A29: 2.12.15. | B29: Планшетный компьютер учителя
A30: 2.12.16. | B30: Многофункциональное устройство | C30: 1 | D30: 29250 | E30: =D30*C30 -> 29250
A31: 2.12.17. | B31: Документ-камера | C31: 1 | D31: 42000 | E31: =D31*C31 -> 42000
A32: 2.12.18. | B32: Акустическая система для аудитории
A33: 2.12.19. | B33: Сетевой фильтр | C33: 1 | D33: 1215 | E33: =D33*C33 -> 1215
A34: 2.12.20. | B34: Средство организации беспроводной сети (Wi-Fi роутер) | C34: 1 | D34: 10500 | E34: =D34*C34 -> 10500
A35: Демонстрационное оборудование и приборы
A36: 2.12.21. | B36: Кульман (А2) | C36: 30 | D36: 37500 | E36: =C36*D36 -> 1125000
A37: 2.12.22. | B37: Шаблон архитектурный | C37: 30 | D37: 4800 | E37: =D37*C37 -> 144000
A38: 2.12.23. | B38: Готовальня | C38: 30 | D38: 1470 | E38: =D38*C38 -> 44100
A39: 2.12.24. | B39: Линейка чертежная | C39: 30 | D39: 397.5 | E39: =D39*C39 -> 11925
A40: 2.12.25. | B40: Мольберт двухсторонний | C40: 30 | D40: 5850 | E40: =D40*C40 -> 175500
A41: Модели
A42: 2.12.26. | B42: Комплект гипсовых моделей геометрических тел | C42: 1 | D42: 16875 | E42: =D42*C42 -> 16875
A43: 2.12.27. | B43: Комплект гипсовых моделей для натюрморта | C43: 1 | D43: 27600 | E43: =D43*C43 -> 27600
A44: 2.12.28. | B44: Комплект гипсовых моделей головы | C44: 1 | D44: 30607.5 | E44: =D44*C44 -> 30607.5
A45: 2.12.29. | B45: Комплект гипсовых моделей растений | C45: 1 | D45: 16200 | E45: =D45*C45 -> 16200
A46: 2.12.30. | B46: Комплект муляжей фруктов и овощей | C46: 1 | D46: 4320 | E46: =D46*C46 -> 4320
A47: 2.12.31. | B47: Муляжи съедобных и ядовитых грибов | C47: 1 | D47: 1080 | E47: =D47*C47 -> 1080
A48: Электронные средства обучения (CD, DVD, видеофильмы, интерактивные плакаты)
A49: 2.12.32. | B49: Электронные наглядные средства для кабинета ИЗО | C49: 1 | D49: 4950 | E49: =D49*C49 -> 4950
A50: 2.12.33. | B50: Комплект учебных видеофильмов | C50: 1 | D50: 2955 | E50: =D50*C50 -> 2955
A51: Демонстрационные учебно-наглядные пособия
A52: 2.12.34. | B52: Комплект специализированных настенных стендов
A53: 2.12.35. | B53: Комплект демонстрационных учебных таблиц по черчению, изобразительному искусству и МХК | C53: 1 | D53: 48510 | E53: =D53*C53 -> 48510
B54: ИТОГО | E54: =SUM(E13:E53) -> 2549662.5

Sheet 2.13. Музыка
A11: Подраздел 13. Кабинет музыки
A12: № п/п | B12: Наименование | C12: Кол-во* | D12: Цена, руб. | E12: Сумма, руб.
A13: Специализированная мебель и системы хранения
A14: 2.13.1. | B14: Доска классная | C14: 1 | D14: 6150 | E14: =D14*C14 -> 6150
A15: 2.13.2. | B15: Стол учителя | C15: 1 | D15: 9000 | E15: =D15*C15 -> 9000
A16: 2.13.3. | B16: Стол учителя приставной | C16: 1 | D16: 6000 | E16: =D16*C16 -> 6000
A17: 2.13.4. | B17: Кресло для учителя | C17: 1 | D17: 5250 | E17: =D17*C17 -> 5250
A18: 2.13.5. | B18: Стол ученический двухместный регулируемый по высоте | C18: 15 | D18: 5235 | E18: =D18*C18 -> 78525
A19: 2.13.6. | B19: Стул ученический поворотный с регулируемой высотой | C19: 30 | D19: 5250 | E19: =D19*C19 -> 157500
A20: 2.13.7. | B20: Шкаф для хранения учебных пособий | C20: 2 | D20: 13350 | E20: =D20*C20 -> 26700
A21: 2.13.8. | B21: Шкаф для хранения с выдвигающимися демонстрационными полками | C21: 1 | D21: 27600 | E21: =D21*C21 -> 27600
A22: 2.13.9. | B22: Система хранения таблиц и плакатов | C22: 1 | D22: 26250 | E22: =D22*C22 -> 26250
A23: 2.13.10. | B23: Боковая демонстрационная панель
A24: 2.13.11. | B24: Информационно-тематический стенд | C24: 1 | D24: 6450 | E24: =D24*C24 -> 6450
A25: ТСО (рабочее место учителя)
A26: 2.13.12. | B26: Интерактивный программно-аппаратный комплекс | C26: 1 | D26: 367500 | E26: =D26*C26 -> 367500
A27: 2.13.13. | B27: Компьютер учителя | C27: 1 | D27: 104850 | E27: =D27*C27 -> 104850
A28: 2.13.14. | B28: Планшетный компьютер учителя
A29: 2.13.15. | B29: Многофункциональное устройство | C29: 1 | D29: 29250 | E29: =D29*C29 -> 29250
A30: 2.13.16. | B30: Документ-камера | C30: 1 | D30: 42000 | E30: =D30*C30 -> 42000
A31: 2.13.17. | B31: Акустическая система для аудитории
A32: 2.13.18. | B32: Сетевой фильтр | C32: 1 | D32: 1215 | E32: =D32*C32 -> 1215
A33: 2.13.19. | B33: Средство организации беспроводной сети (Wi-Fi роутер) | C33: 1 | D33: 10500 | E33: =D33*C33 -> 10500
A34: Демонстрационное оборудование, приборы, инструменты (музыкальные инструменты)
A35: 2.13.20. | B35: Музыкальный центр | C35: 1 | D35: 35437.5 | E35: =D35*C35 -> 35437.5
A36: 2.13.21. | B36: Набор шумовых инструментов | C36: 1 | D36: 46912.5 | E36: =D36*C36 -> 46912.5
A37: 2.13.22. | B37: Пианино акустическое | C37: 1 | D37: 119700 | E37: =D37*C37 -> 119700
A38: 2.13.23. | B38: Комплект баянов ученических | C38: 1 | D38: 67800 | E38: =D38*C38 -> 67800
A39: 2.13.24. | B39: Детский барабан | C39: 25 | D39: 1492.5 | E39: =D39*C39 -> 37312.5
A40: 2.13.25. | B40: Тамбурин | C40: 25 | D40: 1035 | E40: =D40*C40 -> 25875
A41: 2.13.26. | B41: Ксилофон | C41: 13 | D41: 3390 | E41: =D41*C41 -> 44070
A42: 2.13.27. | B42: Ударная установка | C42: 1 | D42: 72900 | E42: =D42*C42 -> 72900
A43: 2.13.28. | B43: Треугольник | C43: 25 | D43: 652.5 | E43: =D43*C43 -> 16312.5
A44: 2.13.29. | B44: Набор колокольчиков | C44: 25 | D44: 1050 | E44: =D44*C44 -> 26250
A45: 2.13.30. | B45: Скрипка 4/4 | C45: 1 | D45: 22155 | E45: =D45*C45 -> 22155
A46: 2.13.31. | B46: Скрипка 3/4 | C46: 1 | D46: 22155 | E46: =D46*C46 -> 22155
... A52: 2.13.37. | B52: Домра | C52: 1 | D52: 24630 | E52: =D52*C52 -> 24630
A53: Электронные средства обучения (CD, DVD, видеофильмы, интерактивные плакаты)
A54: 2.13.38. | B54: Электронные средства обучения для кабинета музыки | C54: 1 | D54: 9735 | E54: =D54*C54 -> 9735
A55: 2.13.39. | B55: Комплект учебных видеофильмов
A56: Демонстрационные учебно-наглядные пособия
A57: 2.13.40. | B57: Портреты отечественных и зарубежных композиторов. | C57: 1 | D57: 1470 | E57: =D57*C57 -> 1470
A58: 2.13.41. | B58: Комплект демонстрационных учебных таблиц по музыке для начальной школы | C58: 1 | D58: 3300 | E58: =D58*C58 -> 3300
A59: 2.13.42. | B59: Комплект демонстрационных учебных таблиц | C59: 1 | D59: 6675 | E59: =D59*C59 -> 6675
B60: ИТОГО | E60: =SUM(E11:E59) -> 1563030

Sheet 2.14. Физика
A11: Подраздел 14. Кабинет физики
A12: № п/п | B12: Наименование | C12: Кол-во* | D12: Цена, руб. | E12: Сумма, руб.
A13: Специализированная мебель и системы хранения
A14: 2.14.1. | B14: Система электроснабжения потолочная
A15: 2.14.2. | B15: Доска классная | C15: 1 | D15: 6150 | E15: =D15*C15 -> 6150
A16: 2.14.3. | B16: Стол демонстрационный
A17: 2.14.4. | B17: Стол учителя | C17: 1 | D17: 9000 | E17: =D17*C17 -> 9000
A18: 2.14.5. | B18: Стол учителя приставной | C18: 1 | D18: 6000 | E18: =D18*C18 -> 6000
A19: 2.14.6. | B19: Кресло для учителя | C19: 1 | D19: 5250 | E19: =D19*C19 -> 5250
A20: 2.14.7. | B20: Стол ученический регулируемый по высоте | C20: 15 | D20: 5235 | E20: =D20*C20 -> 78525
A21: 2.14.8. | B21: Стул ученический с регулируемой высотой | C21: 30 | D21: 3150 | E21: =D21*C21 -> 94500
A22: 2.14.9. | B22: Шкаф для хранения с выдвигающимися демонстрационными полками | C22: 1 | D22: 27600 | E22: =D22*C22 -> 27600
A23: 2.14.10. | B23: Шкаф для хранения учебных пособий | C23: 2 | D23: 13350 | E23: =D23*C23 -> 26700
A24: 2.14.11. | B24: Система хранения и демонстрации таблиц и плакатов | C24: 1 | D24: 26250 | E24: =D24*C24 -> 26250
A25: 2.14.12. | B25: Информационно-тематический стенд | C25: 1 | D25: 26850 | E25: =D25*C25 -> 26850
A26: 2.14.13. | B26: Огнетушитель | C26: 1 | D26: 1215 | E26: =D26*C26 -> 1215
A27: ТСО (рабочее место учителя)
A28: 2.14.14. | B28: Компьютер учителя, лицензионное программное обеспечение
A29: 2.14.15. | B29: Планшетный компьютер учителя
A30: 2.14.16. | B30: Многофункциональное устройство | C30: 1 | D30: 29250 | E30: =D30*C30 -> 29250
A31: 2.14.17. | B31: Документ-камера | C31: 1 | D31: 42000 | E31: =D31*C31 -> 42000
A32: 2.14.18. | B32: Акустическая система для аудитории
A33: 2.14.19. | B33: Сетевой фильтр | C33: 1 | D33: 1215 | E33: =D33*C33 -> 1215
A34: 2.14.20. | B34: Средство организации беспроводной сети (Wi-Fi роутер) | C34: 1 | D34: 10500 | E34: =D34*C34 -> 10500
A35: ТСО (рабочее место ученика)
A36: 2.14.21. | B36: Тележка-хранилище с системой подзарядки и вмонтированным маршрутизатором для организации беспроводной локальной сети в классе
A37: 2.14.22. | B37: Мобильный компьютер ученика | C37: 15 | D37: 38850 | E37: =D37*C37 -> 582750
A38: Демонстрационное оборудование и приборы
A39: 2.14.23. | B39: Мобильный лабораторный комплекс для учебной практической и проектной деятельности по физике | C39: 1 | D39: 149400 | E39: =D39*C39 -> 149400
A40: 2.14.24. | B40: Цифровая лаборатория для учителя | C40: 1 | D40: 340542 | E40: =D40*C40 -> 340542
A41: 2.14.25. | B41: Барометр-анероид | C41: 1 | D41: 3060 | E41: =D41*C41 -> 3060
A42: 2.14.26. | B42: Блок питания 24В регулируемый | C42: 1 | D42: 17400 | E42: =D42*C42 -> 17400
A43: 2.14.27. | B43: Веб-камера на подвижном штативе | C43: 1 | D43: 8550 | E43: =D43*C43 -> 8550
A44: 2.14.28. | B44: Весы технические с разновесами | C44: 1 | D44: 9450 | E44: =D44*C44 -> 9450
A45: 2.14.29. | B45: Видеокамера для работы с оптическими приборами (3 Мпикс) | C45: 1 | D45: 12300 | E45: =D45*C45 -> 12300
A46: 2.14.30. | B46: Генератор звуковой (0,1 Гц-100 кГц) | C46: 1 | D46: 20295 | E46: =D46*C46 -> 20295
A47: 2.14.31. | B47: Гигрометр (психрометр) ВИТ-2 | C47: 1 | D47: 735 | E47: =D47*C47 -> 735
A48: 2.14.32. | B48: Груз наборный 1 кг | C48: 1 | D48: 1440 | E48: =D48*C48 -> 1440
A49: 2.14.33. | B49: Динамометр демонстрационный (пара) | C49: 1 | D49: 4672.5 | E49: =D49*C49 -> 4672.5
A50: 2.14.34. | B50: Комплект посуды демонстрационной с принадлежностями | C50: 1 | D50: 1575 | E50: =D50*C50 -> 1575
... A57: 2.14.41. | B57: Электроплитка 1000 Вт | C57: 1 | D57: 2925 | E57: =D57*C57 -> 2925
A58: Приборы демонстрационные. Механика
A59: 2.14.42. | B59: Набор демонстрационный по механическим явлениям | C59: 1 | D59: 33223.5 | E59: =D59*C59 -> 33223.5
A60: 2.14.43. | B60: Набор демонстрационный по динамике вращательного движения | C60: 1 | D60: 33223.5 | E60: =D60*C60 -> 33223.5
A61: 2.14.44. | B61: Набор демонстрационный по механическим колебаниям | C61: 1 | D61: 21789 | E61: =D61*C61 -> 21789
A62: 2.14.45. | B62: Набор демонстрационный волновых явлений | C62: 1 | D62: 16200 | E62: =D62*C62 -> 16200
A63: 2.14.46. | B63: Ведерко Архимеда | C63: 1 | D63: 1365 | E63: =D63*C63 -> 1365
A64: 2.14.47. | B64: Маятник Максвелла | C64: 1 | D64: 1965 | E64: =D64*C64 -> 1965
A65: 2.14.48. | B65: Набор тел равного объема | C65: 1 | D65: 802.5 | E65: =D65*C65 -> 802.5
A66: 2.14.49. | B66: Набор тел равной массы | C66: 1 | D66: 855 | E66: =D66*C66 -> 855
A67: 2.14.50. | B67: Прибор для демонстрации атмосферного давления | C67: 1 | D67: 2085 | E67: =D67*C67 -> 2085
A68: 2.14.51. | B68: Призма наклоняющаяся с отвесом | C68: 1 | D68: 1530 | E68: =D68*C68 -> 1530
A69: 2.14.52. | B69: Рычаг демонстрационный | C69: 1 | D69: 1099.5 | E69: =D69*C69 -> 1099.5
A70: 2.14.53. | B70: Сосуды сообщающиеся | C70: 1 | D70: 1185 | E70: =D70*C70 -> 1185
... A73: 2.14.56. | B73: Шар Паскаля | C73: 1 | D73: 1515 | E73: =D73*C73 -> 1515
A74: Приборы демонстрационные. Молекулярная физика
A75: 2.14.57. | B75: Набор демонстрационный по молекулярной физике и тепловым явлениям | C75: 1 | D75: 21427.5 | E75: =D75*C75 -> 21427.5
A76: 2.14.58. | B76: Набор демонстрационный по газовым законам | C76: 1 | D76: 62100 | E76: =D76*C76 -> 62100
A77: 2.14.59. | B77: Набор капилляров | C77: 1 | D77: 1470 | E77: =D77*C77 -> 1470
A78: 2.14.60. | B78: Трубка для демонстрации конвекции в жидкости | C78: 1 | D78: 975 | E78: =D78*C78 -> 975
A79: 2.14.61. | B79: Цилиндры свинцовые со стругом | C79: 1 | D79: 879 | E79: =D79*C79 -> 879
A80: 2.14.62. | B80: Шар с кольцом | C80: 1 | D80: 1305 | E80: =D80*C80 -> 1305
A81: Приборы демонстрационные. Электродинамика и звуковые волны
A82: 2.14.63. | B82: Высоковольтный источник 30 кВ | C82: 1 | D82: 23625 | E82: =D82*C82 -> 23625
A83: 2.14.64. | B83: Генератор Ван-де-Граафа | C83: 1 | D83: 39441 | E83: =D83*C83 -> 39441
A84: 2.14.65. | B84: Дозиметр | C84: 1 | D84: 10200 | E84: =D84*C84 -> 10200
A85: 2.14.66. | B85: Камертоны на резонансных ящиках 440 Гц | C85: 1 | D85: 2625 | E85: =D85*C85 -> 2625
A86: 2.14.67. | B86: Комплект приборов и принадлежностей для демонстрации свойств электромагнитных волн | C86: 1 | D86: 32550 | E86: =D86*C86 -> 32550
A87: 2.14.68. | B87: Комплект приборов для изучения принципов радиоприема и радиопередачи | C87: 1 | D87: 23250 | E87: =D87*C87 -> 23250
A88: 2.14.69. | B88: Комплект проводов | C88: 1 | D88: 510 | E88: =D88*C88 -> 510
A89: 2.14.70. | B89: Магнит дугообразный | C89: 1 | D89: 630 | E89: =D89*C89 -> 630
A90: 2.14.71. | B90: Магнит полосовой демонстрационный (пара) | C90: 1 | D90: 795 | E90: =D90*C90 -> 795
A91: 2.14.72. | B91: Машина электрофорная | C91: 1 | D91: 4650 | E91: =D91*C91 -> 4650
A92: 2.14.73. | B92: Маятник электростатический | C92: 1 | D92: 1905 | E92: =D92*C92 -> 1905
A93: 2.14.74. | B93: Набор по изучению магнитного поля Земли | C93: 1 | D93: 1815 | E93: =D93*C93 -> 1815
... A108: 2.14.89. | B108: Электромагнит разборный (подковообразный) | C108: 1 | D108: 1005 | E108: =D108*C108 -> 1005
A109: Приборы демонстрационные. Оптика и квантовая физика
A110: 2.14.90. | B110: Набор демонстрационный по геометрической оптике | C110: 1 | D110: 35994 | E110: =D110*C110 -> 35994
A111: 2.14.91. | B111: Набор демонстрационный по волновой оптике | C111: 1 | D111: 34597.5 | E111: =D111*C111 -> 34597.5
A112: 2.14.92. | B112: Спектроскоп двухтрубный | C112: 1 | D112: 14250 | E112: =D112*C112 -> 14250
A113: 2.14.93. | B113: Набор спектральных трубок с источником питания | C113: 1 | D113: 21750 | E113: =D113*C113 -> 21750
A114: 2.14.94. | B114: Установка для изучения фотоэффекта | C114: 1 | D114: 77040 | E114: =D114*C114 -> 77040
A115: 2.14.95. | B115: Набор демонстрационный по постоянной Планка | C115: 1 | D115: 4050 | E115: =D115*C115 -> 4050
A116: Лабораторно-технологическое оборудование (лабораторное оборудование,
A117: приборы, наборы для эксперимента, инструменты и т.д.)
A118: 2.14.96. | B118: Цифровая лаборатория по физике для ученика | C118: 15 | D118: 69211.5 | E118: =D118*C118 -> 1038172.5
A119: 2.14.97. | B119: Комплект для лабораторного практикума по оптике | C119: 5 | D119: 35295 | E119: =D119*C119 -> 176475
A120: 2.14.98. | B120: Комплект для лабораторного практикума по механике | C120: 5 | D120: 49594.5 | E120: =D120*C120 -> 247972.5
A121: 2.14.99. | B121: Комплект для лабораторного практикума по молекулярной физике | C121: 5 | D121: 47187 | E121: =D121*C121 -> 235935
A122: 2.14.100. | B122: Комплект для лабораторного практикума по электричеству (с генератором) | C122: 5 | D122: 43977 | E122: =D122*C122 -> 219885
A123: 2.14.101. | B123: Комплект для изучения основ механики, пневматики и возобновляемых источников энергии
A124: Электронные средства обучения (CD, DVD, Blu-ray, видеофильмы, интерактивные плакаты)
A125: 2.14.102. | B125: Электронные учебные пособия для кабинета физики | C125: 1 | D125: 24750 | E125: =D125*C125 -> 24750
A126: 2.14.103. | B126: Комплект учебных видео фильмов | C126: 1 | D126: 4095 | E126: =D126*C126 -> 4095
A127: Демонстрационные учебно-наглядные пособия
A128: 2.14.104. | B128: Комплект портретов для оформления кабинета | C128: 1 | D128: 3300 | E128: =D128*C128 -> 3300
A129: 2.14.105. | B129: Комплект наглядных пособий для постоянного использования | C129: 1 | D129: 6939 | E129: =D129*C129 -> 6939
A130: 2.14.106. | B130: Комплект демонстрационных учебных таблиц | C130: 1 | D130: 18480 | E130: =D130*C130 -> 18480
A131: 2.14.107. | B131: Комплект для изучения основ механики, пневматики и возобновляемых источников энергии | C131: 1 | D131: 330000 | E131: =D131*C131 -> 330000
A132: Оборудование лаборантской кабинета физики
...

Sheet 2.15. Химия
A11: Подраздел 15. Кабинет химии
A12: № п/п | B12: Наименование | C12: Кол-во* | D12: Цена, руб. | E12: Сумма, руб.
A13: Специализированная мебель и системы хранения для кабинета
A14: 2.15.1. | B14: Доска классная | C14: 1 | D14: 6150 | E14: =D14*C14 -> 6150
A15: 2.15.2. | B15: Стол демонстрационный с раковиной | C15: 1 | D15: 25350 | E15: =D15*C15 -> 25350
A16: 2.15.3. | B16: Стол демонстрационный с надстройкой
A17: 2.15.4. | B17: Стол учителя | C17: 1 | D17: 9000 | E17: =D17*C17 -> 9000
A18: 2.15.5. | B18: Стол учителя приставной | C18: 1 | D18: 6000 | E18: =D18*C18 -> 6000
A19: 2.15.6. | B19: Кресло для учителя | C19: 1 | D19: 5250 | E19: =D19*C19 -> 5250
A20: 2.15.7. | B20: Стол ученический регулируемый по высоте | C20: 15 | D20: 5085 | E20: =D20*C20 -> 76275
A21: 2.15.8. | B21: Стул ученический с регулируемой высотой | C21: 30 | D21: 3150 | E21: =D21*C21 -> 94500
A22: 2.15.9. | B22: Шкаф для хранения с выдвигающимися демонстрационными полками | C22: 1 | D22: 27600 | E22: =D22*C22 -> 27600
A23: 2.15.10. | B23: Шкаф для хранения учебных пособий | C23: 2 | D23: 13350 | E23: =D23*C23 -> 26700
A24: 2.15.11. | B24: Система хранения таблиц и плакатов | C24: 1 | D24: 26250 | E24: =D24*C24 -> 26250
A25: 2.15.12. | B25: Боковая демонстрационная панель
A26: 2.15.13. | B26: Информационно-тематический стенд | C26: 1 | D26: 25500 | E26: =D26*C26 -> 25500
A27: 2.15.14. | B27: Огнетушитель | C27: 1 | D27: 1215 | E27: =D27*C27 -> 1215
A28: ТСО (рабочее место учителя)
A29: 2.15.15. | B29: Интерактивный программно-аппаратный комплекс | C29: 1 | D29: 367500 | E29: =D29*C29 -> 367500
A30: 2.15.16. | B30: Компьютер учителя | C30: 1 | D30: 104850 | E30: =D30*C30 -> 104850
A31: 2.15.17. | B31: Планшетный компьютер учителя
A32: 2.15.18. | B32: Многофункциональное устройство | C32: 1 | D32: 29250 | E32: =D32*C32 -> 29250
A33: 2.15.19. | B33: Документ-камера | C33: 1 | D33: 42000 | E33: =D33*C33 -> 42000
A34: 2.15.20. | B34: Акустическая система для аудитории
A35: 2.15.21. | B35: Сетевой фильтр | C35: 1 | D35: 1215 | E35: =D35*C35 -> 1215
A36: 2.15.22. | B36: Средство организации беспроводной сети (Wi-Fi роутер) | C36: 1 | D36: 10500 | E36: =D36*C36 -> 10500
A37: Оборудование химической лаборатории
A38: Специализированная мебель и системы хранения для химической лаборатории
A39: 2.15.23. | B39: Стол демонстрационный с раковиной | C39: 1 | D39: 25350 | E39: =D39*C39 -> 25350
A40: 2.15.24. | B40: Стол демонстрационный с надстройкой
A41: 2.15.25. | B41: Стол учителя | C41: 1 | D41: 9000 | E41: =D41*C41 -> 9000
A42: 2.15.26. | B42: Стол приставной | C42: 1 | D42: 6000 | E42: =D42*C42 -> 6000
A43: 2.15.27. | B43: Кресло для преподавателя | C43: 1 | D43: 5250 | E43: =D43*C43 -> 5250
A44: 2.15.28. | B44: Островной стол двухсторонний с подсветкой, электроснабжением, с полками и ящиками | C44: 2 | D44: 130500 | E44: =D44*C44 -> 261000
A45: 2.15.29. | B45: Стул лабораторный с регулируемой высотой | C45: 30 | D45: 3150 | E45: =D45*C45 -> 94500
A46: 2.15.30. | B46: Шкаф вытяжной панорамный
A47: 2.15.31. | B47: Шкаф для хранения с выдвигающимися демонстрационными полками | C47: 1 | D47: 27600 | E47: =D47*C47 -> 27600
A48: 2.15.32. | B48: Шкаф для хранения учебных пособий | C48: 2 | D48: 13350 | E48: =D48*C48 -> 26700
A49: 2.15.33. | B49: Плакаты настенные | C49: 1 | D49: 7950 | E49: =D49*C49 -> 7950
A50: 2.15.34. | B50: Огнетушитель | C50: 1 | D50: 1215 | E50: =D50*C50 -> 1215
A51: Демонстрационное оборудование и приборы для кабинета и лаборатории
A52: 2.15.35. | B52: Весы электронные с USB-переходником | C52: 1 | D52: 42600 | E52: =D52*C52 -> 42600
A53: 2.15.36. | B53: Столик подъемный 200х200 | C53: 1 | D53: 3615 | E53: =D53*C53 -> 3615
A54: 2.15.37. | B54: Центрифуга демонстрационная | C54: 1 | D54: 4350 | E54: =D54*C54 -> 4350
A55: 2.15.38. | B55: Штатив химический демонстрационный | C55: 1 | D55: 6150 | E55: =D55*C55 -> 6150
A56: 2.15.39. | B56: Аппарат для проведения химических реакций АПХР | C56: 1 | D56: 4200 | E56: =D56*C56 -> 4200
A57: 2.15.40. | B57: Аппарат Киппа 250 мл. | C57: 1 | D57: 4260 | E57: =D57*C57 -> 4260
A58: 2.15.41. | B58: Эвдиометр | C58: 1 | D58: 720 | E58: =D58*C58 -> 720
A59: 2.15.42. | B59: Генератор (источник) высокого напряжения | C59: 1 | D59: 21450 | E59: =D59*C59 -> 21450
A60: 2.15.43. | B60: Горелка универсальная | C60: 1 | D60: 598.5 | E60: =D60*C60 -> 598.5
A61: 2.15.44. | B61: Прибор для иллюстрации зависимости скорости химических реакций от условий окружающей среды | C61: 1 | D61: 2055 | E61: =D61*C61 -> 2055
A62: 2.15.45. | B62: Набор для электролиза демонстрационный | C62: 1 | D62: 960 | E62: =D62*C62 -> 960
A63: 2.15.46. | B63: Прибор для опытов по химии с электрическим током (лабораторный) | C63: 1 | D63: 1897.5 | E63: =D63*C63 -> 1897.5
... A70: 2.15.53. | B70: Установка для перегонки веществ | C70: 1 | D70: 3375 | E70: =D70*C70 -> 3375
A71: 2.15.54. | B71: Прибор для получения растворимых твердых веществ ПРВ
A72: 2.15.55. | B72: Барометр-анероид | C72: 1 | D72: 3060 | E72: =D72*C72 -> 3060
A73: Лабораторно-технологическое оборудование для кабинета и лаборатории
A74: 2.15.56. | B74: Цифровая лаборатория по химии для учителя | C74: 1 | D74: 307897.5 | E74: =D74*C74 -> 307897.5
A75: 2.15.57. | B75: Цифровая лаборатория по химии для ученика | C75: 15 | D75: 95643 | E75: =D75*C75 -> 1434645
A76: 2.15.58. | B76: Мини-экспресс лаборатория учебная , 14 показателей с Комплектом пополнения | C76: 1 | D76: 121380 | E76: =D76*C76 -> 121380
A77: 2.15.59. | B77: Прибор для получения галоидоалканов и сложных эфиров лабораторный | C77: 1 | D77: 1185 | E77: =D77*C77 -> 1185
A78: 2.15.60. | B78: Колбонагреватель | C78: 1 | D78: 22425 | E78: =D78*C78 -> 22425
A79: 2.15.61. | B79: Электроплитка 1000 Вт | C79: 1 | D79: 2925 | E79: =D79*C79 -> 2925
A80: 2.15.62. | B80: Баня комбинированная лабораторная | C80: 1 | D80: 4725 | E80: =D80*C80 -> 4725
A81: 2.15.63. | B81: Весы для сыпучих материалов | C81: 15 | D81: 2775 | E81: =D81*C81 -> 41625
A82: 2.15.64. | B82: Прибор для получения газов ППГ | C82: 15 | D82: 630 | E82: =D82*C82 -> 9450
A83: 2.15.65. | B83: Прибор для получения галоидоалканов лабораторный | C83: 15 | D83: 1185 | E83: =D83*C83 -> 17775
A84: 2.15.66. | B84: Спиртовка лабораторная стекло | C84: 15 | D84: 420 | E84: =D84*C84 -> 6300
A85: 2.15.67. | B85: Спиртовка лабораторная литая | C85: 2 | D85: 570 | E85: =D85*C85 -> 1140
... A93: 2.15.75. | B93: Набор посуды и принадлежностей из пропилена (микролаборатория) | C93: 15 | D93: 1045.5 | E93: =D93*C93 -> 15682.5
A94: Лабораторная химическая посуда для кабинета и лаборатории
A95: 2.15.76. | B95: Комплект колб демонстрационных | C95: 1 | D95: 6555 | E95: =D95*C95 -> 6555
A96: 2.15.77. | B96: Кювета для датчика оптической плотности | C96: 1 | D96: 90 | E96: =D96*C96 -> 90
A97: 2.15.78. | B97: Набор пробок резиновых | C97: 1 | D97: 45 | E97: =D97*C97 -> 45
A98: 2.15.79. | B98: Переход стеклянный | C98: 2 | D98: 1290 | E98: =D98*C98 -> 2580
A99: 2.15.80. | B99: Пробирка Вюрца | C99: 2 | D99: 480 | E99: =D99*C99 -> 960
A100: 2.15.81. | B100: Пробирка двухколенная | C100: 2 | D100: 2025 | E100: =D100*C100 -> 4050
A101: 2.15.82. | B101: Соединитель стеклянный | C101: 2 | D101: 1545 | E101: =D101*C101 -> 3090
A102: 2.15.83. | B102: Шприц 150 мл | C102: 2 | D102: 135 | E102: =D102*C102 -> 270
A103: 2.15.84. | B103: Зажим винтовой | C103: 2 | D103: 147 | E103: =D103*C103 -> 294
A104: 2.15.85. | B104: Зажим Мора | C104: 2 | D104: 277.5 | E104: =D104*C104 -> 555
A105: 2.15.86. | B105: Шланг силиконовый d 6 мм | C105: 1 | D105: 1327.5 | E105: =D105*C105 -> 1327.5
A106: 2.15.87. | B106: Комплект стеклянной посуды на шлифах демонстрационный | C106: 1 | D106: 20100 | E106: =D106*C106 -> 20100
... A139: 2.15.120. | B139: Сушильная панель для посуды | C139: 1 | D139: 2992.5 | E139: =D139*C139 -> 2992.5
A140: Модели (объемные и плоские), натуральные объекты (коллекции, химические
A141: реактивы) для кабинета и лаборатории
A142: 2.15.121. | B142: Комплект моделей кристаллических решеток | C142: 1 | D142: 8550 | E142: =D142*C142 -> 8550
A143: 2.15.122. | B143: Модель молекулы белка | C143: 1 | D143: 4485 | E143: =D143*C143 -> 4485
A144: 2.15.123. | B144: Набор для составления объемных моделей молекул | C144: 1 | D144: 4215 | E144: =D144*C144 -> 4215
A145: 2.15.124. | B145: Комплект для практических работ для моделирования молекул по неорганической химии | C145: 15 | D145: 2475 | E145: =D145*C145 -> 37125
A146: 2.15.125. | B146: Комплект для практических работ для моделирования молекул по органической химии | C146: 15 | D146: 2625 | E146: =D146*C146 -> 39375
A147: 2.15.126. | B147: Набор для моделирования строения атомов и молекул | C147: 1 | D147: 3345 | E147: =D147*C147 -> 3345
A148: 2.15.127. | B148: Набор моделей заводских химических аппаратов | C148: 1 | D148: 4950 | E148: =D148*C148 -> 4950
A149: 2.15.128. | B149: Набор трафаретов моделей атомов | C149: 1 | D149: 2250 | E149: =D149*C149 -> 2250
A150: 2.15.129. | B150: Набор для моделирования электронного строения атомов | C150: 1 | D150: 5850 | E150: =D150*C150 -> 5850
A151: 2.15.130. | B151: Комплект коллекций | C151: 1 | D151: 26182.5 | E151: =D151*C151 -> 26182.5
A152: 2.15.131. | B152: Комплект химических реактивов | C152: 1 | D152: 48000 | E152: =D152*C152 -> 48000
A153: Электронные средства обучения (CD, DVD, видеофильмы, интерактивные плакаты)
A154: 2.15.132. | B154: Электронные средства обучения для кабинета химии | C154: 1 | D154: 82500 | E154: =D154*C154 -> 82500
A155: 2.15.133. | B155: Комплект учебных видео фильмов по неорганической химии | C155: 1 | D155: 3600 | E155: =D155*C155 -> 3600
...

Sheet 2.16. Био и экол
A11: Подраздел 16. Кабинет биологии и экологии
B12: Наименование | C12: Кол-во* | D12: Цена, руб. | E12: Сумма, руб.
A13: Специализированная мебель и системы хранения
A14: 2.16.1. | B14: Доска классная | C14: 1 | D14: 6150 | E14: =D14*C14 -> 6150
A15: 2.16.2. | B15: Стол учителя | C15: 1 | D15: 9000 | E15: =D15*C15 -> 9000
A16: 2.16.3. | B16: Стол учителя приставной | C16: 1 | D16: 6000 | E16: =D16*C16 -> 6000
A17: 2.16.4. | B17: Кресло для учителя | C17: 1 | D17: 5250 | E17: =D17*C17 -> 5250
A18: 2.16.5. | B18: Стол ученический двухместный регулируемый по высоте | C18: 15 | D18: 5235 | E18: =D18*C18 -> 78525
A19: 2.16.6. | B19: Стул ученический поворотный с регулируемой высотой | C19: 30 | D19: 5250 | E19: =D19*C19 -> 157500
A20: 2.16.7. | B20: Островной стол двухсторонний с подсветкой, электроснабжением, с полками и ящиками | C20: 2 | D20: 135150 | E20: =D20*C20 -> 270300
A21: 2.16.8. | B21: Стул ученический лабораторный с регулируемой высотой | C21: 30 | D21: 3150 | E21: =D21*C21 -> 94500
A22: 2.16.9. | B22: Шкаф для хранения с выдвигающимися полками | C22: 1 | D22: 27600 | E22: =D22*C22 -> 27600
A23: 2.16.10. | B23: Шкаф для хранения учебных пособий | C23: 2 | D23: 13350 | E23: =D23*C23 -> 26700
A24: 2.16.11. | B24: Система хранения и демонстрации таблиц и плакатов | C24: 1 | D24: 26250 | E24: =D24*C24 -> 26250
A25: 2.16.12. | B25: Доска объявлений | C25: 1 | D25: 3600 | E25: =D25*C25 -> 3600
A26: ТСО (рабочее место учителя)
A27: 2.16.13. | B27: Интерактивный программно-аппаратный комплекс | C27: 1 | D27: 367500 | E27: =D27*C27 -> 367500
A28: 2.16.14. | B28: Компьютер учителя | C28: 1 | D28: 104850 | E28: =D28*C28 -> 104850
A29: 2.16.15. | B29: Планшетный компьютер учителя
A30: 2.16.16. | B30: Многофункциональное устройство | C30: 1 | D30: 29250 | E30: =D30*C30 -> 29250
A31: 2.16.17. | B31: Документ-камера | C31: 1 | D31: 42000 | E31: =D31*C31 -> 42000
A32: 2.16.18. | B32: Акустическая система для аудитории
A33: 2.16.19. | B33: Сетевой фильтр | C33: 1 | D33: 1215 | E33: =D33*C33 -> 1215
A34: 2.16.20. | B34: Средство организации беспроводной сети (Wi-Fi роутер) | C34: 1 | D34: 10500 | E34: =D34*C34 -> 10500
A35: ТСО (рабочее место ученика)
A36: 2.16.21. | B36: Тележка-хранилище с системой подзарядки и вмонтированным маршрутизатором для организации беспроводной локальной сети в классе
A37: 2.16.22. | B37: Мобильный компьютер ученика | C37: 15 | D37: 38850 | E37: =D37*C37 -> 582750
A38: Демонстрационное оборудование и приборы
A39: 2.16.23. | B39: Комплект влажных препаратов демонстрационный | C39: 1 | D39: 33084 | E39: =D39*C39 -> 33084
A40: 2.16.24. | B40: Комплект гербариев демонстрационный | C40: 1 | D40: 18753 | E40: =D40*C40 -> 18753
A41: 2.16.25. | B41: Комплект коллекций демонстрационный | C41: 1 | D41: 32386.5 | E41: =D41*C41 -> 32386.5
A42: 2.16.26. | B42: Цифровой микроскоп бинокулярный (с камерой) | C42: 1 | D42: 168000 | E42: =D42*C42 -> 168000
A43: 2.16.27. | B43: Видеокамера для работы с оптическими приборами | C43: 1 | D43: 12300 | E43: =D43*C43 -> 12300
A44: 2.16.28. | B44: Микроскоп демонстрационный | C44: 1 | D44: 22800 | E44: =D44*C44 -> 22800
A45: 2.16.29. | B45: Прибор для демонстрации водных свойств почвы | C45: 1 | D45: 1123.5 | E45: =D45*C45 -> 1123.5
A46: 2.16.30. | B46: Прибор для демонстрации всасывания воды корнями | C46: 1 | D46: 825 | E46: =D46*C46 -> 825
A47: 2.16.31. | B47: Прибор для обнаружения дыхательного газообмена у растений и животных | C47: 1 | D47: 1680 | E47: =D47*C47 -> 1680
A48: 2.16.32. | B48: Прибор для сравнения углекислого газа во вдыхаемом и выдыхаемом воздухе | C48: 1 | D48: 1003.5 | E48: =D48*C48 -> 1003.5
A49: Лабораторно-технологическое оборудование (лабораторное оборудование, приборы,
A50: наборы для эксперимента, инструменты и т.д.)
A51: 2.16.33. | B51: Цифровая лаборатория для учителя по биологии | C51: 1 | D51: 198288 | E51: =D51*C51 -> 198288
A52: 2.16.34. | B52: Палочка стеклянная | C52: 15 | D52: 30 | E52: =D52*C52 -> 450
A53: 2.16.35. | B53: Зажим пробирочный | C53: 10 | D53: 165 | E53: =D53*C53 -> 1650
A54: 2.16.36. | B54: Ложка для сжигания веществ | C54: 2 | D54: 111 | E54: =D54*C54 -> 222
A55: 2.16.37. | B55: Спиртовка лабораторная | C55: 15 | D55: 420 | E55: =D55*C55 -> 6300
A56: 2.16.38. | B56: Штатив для пробирок 10 гнезд | C56: 15 | D56: 103.5 | E56: =D56*C56 -> 1552.5
A57: 2.16.39. | B57: Воронка лабораторная | C57: 15 | D57: 120 | E57: =D57*C57 -> 1800
A58: 2.16.40. | B58: Колба коническая 500 мл | C58: 2 | D58: 499.5 | E58: =D58*C58 -> 999
A59: 2.16.41. | B59: Пробирка ПБ-16 | C59: 100 | D59: 9 | E59: =D59*C59 -> 900
A60: 2.16.42. | B60: Стакан 50 мл | C60: 2 | D60: 90 | E60: =D60*C60 -> 180
A61: 2.16.43. | B61: Ступка фарфоровая с пестиком | C61: 15 | D61: 480 | E61: =D61*C61 -> 7200
A62: 2.16.44. | B62: Цилиндр мерный с носиком 100 мл | C62: 15 | D62: 144 | E62: =D62*C62 -> 2160
... A64: 2.16.46. | B64: Цифровая лаборатория по биологии для ученика | C64: 15 | D64: 107236.5 | E64: =D64*C64 -> 1608547.5
A65: 2.16.47. | B65: Универсальный регистратор данных (мобильный компьютер ученика)
A66: 2.16.48. | B66: Микроскоп школьный с подсветкой | C66: 15 | D66: 10800 | E66: =D66*C66 -> 162000
A67: 2.16.49. | B67: Видеокамера для работы с оптическими приборами | C67: 15 | D67: 5730 | E67: =D67*C67 -> 85950
A68: 2.16.50. | B68: Цифровой микроскоп | C68: 1 | D68: 8100 | E68: =D68*C68 -> 8100
A69: 2.16.51. | B69: Набор для микроскопа по биологии (лоток) | C69: 15 | D69: 2850 | E69: =D69*C69 -> 42750
A70: Модели, муляжи, аппликации
A71: 2.16.52. | B71: Комплект моделей-аппликаций демонстрационный | C71: 1 | D71: 26208 | E71: =D71*C71 -> 26208
A72: 2.16.53. | B72: Комплект анатомических моделей демонстрационный | C72: 1 | D72: 57345 | E72: =D72*C72 -> 57345
A73: 2.16.54. | B73: Набор палеонтологических муляжей | C73: 1 | D73: 11730 | E73: =D73*C73 -> 11730
A74: 2.16.55. | B74: Комплект ботанических моделей демонстрационный | C74: 1 | D74: 22725 | E74: =D74*C74 -> 22725
A75: 2.16.56. | B75: Комплект зоологических моделей демонстрационный | C75: 1 | D75: 23925 | E75: =D75*C75 -> 23925
A76: 2.16.57. | B76: Комплект муляжей демонстрационный | C76: 1 | D76: 12613.5 | E76: =D76*C76 -> 12613.5
A77: Электронные средства обучения (CD, DVD, видеофильмы, интерактивные плакаты)
A78: 2.16.58. | B78: Электронные средства обучения (CD, DVD, интерактивные плакаты) для кабинета биологии | C78: 1 | D78: 59062.5 | E78: =D78*C78 -> 59062.5
A79: 2.16.59. | B79: Видеофильмы | C79: 1 | D79: 7785 | E79: =D79*C79 -> 7785
A80: Демонстрационные учебно-наглядные пособия
A81: 2.16.60. | B81: Комплект портретов для оформления кабинета | C81: 1 | D81: 2535 | E81: =D81*C81 -> 2535
A82: 2.16.61. | B82: Комплект демонстрационных учебных таблиц | C82: 1 | D82: 36870 | E82: =D82*C82 -> 36870
A83: Лаборантская для кабинета биологии и экологии
A84: 2.16.62. | B84: Стол учителя | C84: 1 | D84: 9000 | E84: =D84*C84 -> 9000
A85: 2.16.63. | B85: Кресло для преподавателя | C85: 1 | D85: 5250 | E85: =D85*C85 -> 5250
A86: 2.16.64. | B86: Стол лабораторный моечный | C86: 1 | D86: 14920.5 | E86: =D86*C86 -> 14920.5
A87: 2.16.65. | B87: Сушильная панель для посуды | C87: 1 | D87: 3255 | E87: =D87*C87 -> 3255
A88: 2.16.66. | B88: Шкаф для хранения с выдвигающимися полками | C88: 1 | D88: 27600 | E88: =D88*C88 -> 27600
A89: 2.16.67. | B89: Шкаф для хранения учебных пособий | C89: 2 | D89: 13350 | E89: =D89*C89 -> 26700
A90: 2.16.68. | B90: Шкаф для хранения посуды | E90: =D90*C90 -> 0
A91: 2.16.69. | B91: Система хранения таблиц и плакатов | C91: 1 | D91: 26250 | E91: =D91*C91 -> 26250
A92: 2.16.70. | B92: Лаборантский стол | C92: 1 | D92: 9000 | E92: =D92*C92 -> 9000
A93: 2.16.71. | B93: Стул лабораторный поворотный | C93: 1 | D93: 5250 | E93: =D93*C93 -> 5250
B94: ИТОГО | E94: =SUM(E12:E93) -> 4695144

Sheet 2.17. Естеств
A11: Подраздел 17. Кабинет естествознания
A12: № п/п | B12: Наименование | C12: Кол-во* | D12: Цена, руб. | E12: Сумма, руб.
A13: Специализированная мебель и системы хранения
A14: 2.17.1. | B14: Школьная доска пятиэлементная
A15: 2.17.2. | B15: Кресло для преподавателя | C15: 1 | D15: 5250 | E15: =D15*C15 -> 5250
A16: 2.17.3. | B16: Стол демонстрационный | C16: 1 | D16: 9000 | E16: =D16*C16 -> 9000
A17: 2.17.4. | B17: Шкаф для хранения учебных пособий | C17: 2 | D17: 13350 | E17: =D17*C17 -> 26700
A18: 2.17.5. | B18: Шкаф для хранения с выдвигающимися полками | C18: 1 | D18: 27600 | E18: =D18*C18 -> 27600
A19: 2.17.6. | B19: Стол ученический двухместный регулируемый по высоте | C19: 15 | D19: 5085 | E19: =D19*C19 -> 76275
A20: 2.17.7. | B20: Стул ученический поворотный с регулируемой высотой | C20: 30 | D20: 5250 | E20: =D20*C20 -> 157500
A21: 2.17.8. | B21: Шкаф вытяжной панорамный
A22: 2.17.9. | B22: Лаборантский стол
A23: 2.17.10. | B23: Стенды настенные
A24: ТСО (рабочее место учителя)
A25: 2.17.11. | B25: Интерактивный программно-аппаратный комплекс | C25: 1 | D25: 367500 | E25: =D25*C25 -> 367500
A26: 2.17.12. | B26: Компьютер учителя | C26: 1 | D26: 104850 | E26: =D26*C26 -> 104850
A27: 2.17.13. | B27: Планшетный компьютер учителя
A28: 2.17.14. | B28: Многофункциональное устройство | C28: 1 | D28: 29250 | E28: =D28*C28 -> 29250
A29: 2.17.15. | B29: Документ-камера | C29: 1 | D29: 42000 | E29: =D29*C29 -> 42000
A30: 2.17.16. | B30: Акустическая система для аудитории
A31: 2.17.17. | B31: Сетевой фильтр | C31: 1 | D31: 1215 | E31: =D31*C31 -> 1215
A32: 2.17.18. | B32: Средство организации беспроводной сети (Wi-Fi роутер) | C32: 1 | D32: 10500 | E32: =D32*C32 -> 10500
A33: Демонстрационные и электронные учебные пособия
A34: 2.17.19. | B34: Комплект наглядных пособий для постоянного использования | C34: 1 | D34: 16878 | E34: =D34*C34 -> 16878
A35: 2.17.20. | B35: Методическое пособие по использованию лабораторного комплекса для учебной практической и проектной деятельности по естественнонаучным дисциплинам
A36: Оборудование общего назначения и измерительные приборы
A37: 2.17.21. | B37: Баня комбинированная лабораторная | C37: 1 | D37: 4725 | E37: =D37*C37 -> 4725
A38: 2.17.22. | B38: Штатив демонстрационный | C38: 1 | D38: 11850 | E38: =D38*C38 -> 11850
A39: 2.17.23. | B39: Зарядное устройство на 5 аккумуляторных блоков | C39: 1 | D39: 2025 | E39: =D39*C39 -> 2025
A40: 2.17.24. | B40: Источник постоянного и переменного напряжения 24В | C40: 1 | D40: 16350 | E40: =D40*C40 -> 16350
A41: 2.17.25. | B41: Доска для сушки посуды | C41: 1 | D41: 2992.5 | E41: =D41*C41 -> 2992.5
A42: 2.17.26. | B42: Устройство для хранения химических реактивов | C42: 1 | D42: 44479.5 | E42: =D42*C42 -> 44479.5
A43: 2.17.27. | B43: Барометр - анероид | C43: 1 | D43: 3060 | E43: =D43*C43 -> 3060
A44: 2.17.28. | B44: Гигрометр психометрический | C44: 1 | D44: 735 | E44: =D44*C44 -> 735
A45: 2.17.29. | B45: Весы лабораторные электронные до 500 г | C45: 1 | D45: 42600 | E45: =D45*C45 -> 42600
A46: 2.17.30. | B46: Термометр электронный | C46: 1 | D46: 10050 | E46: =D46*C46 -> 10050
A47: Демонстрационное оборудование
A48: 2.17.31. | B48: Комплект для демонстрации поверхностного натяжения | C48: 1 | D48: 1312.5 | E48: =D48*C48 -> 1312.5
A49: 2.17.32. | B49: Набор для изучения закона сохранения энергии | C49: 1 | D49: 780 | E49: =D49*C49 -> 780
A50: 2.17.33. | B50: Прибор для наблюдения равномерного движения | C50: 1 | D50: 1815 | E50: =D50*C50 -> 1815
A51: 2.17.34. | B51: Прибор для изучения газовых законов (с манометром) | C51: 1 | D51: 7800 | E51: =D51*C51 -> 7800
A52: 2.17.35. | B52: Желоб Галилея | C52: 1 | D52: 1815 | E52: =D52*C52 -> 1815
A53: 2.17.36. | B53: Прибор для исследования звуковых волн | C53: 1 | D53: 16830 | E53: =D53*C53 -> 16830
A54: 2.17.37. | B54: Камертоны на резонансных ящиках | C54: 1 | D54: 2625 | E54: =D54*C54 -> 2625
A55: 2.17.38. | B55: Магнит полосовой демонстрационный (пара) | C55: 1 | D55: 795 | E55: =D55*C55 -> 795
A56: 2.17.39. | B56: Стрелки магнитные на штативах ДЕМ. (пара) | C56: 1 | D56: 435 | E56: =D56*C56 -> 435
A57: 2.17.40. | B57: Трансформатор универсальный | C57: 1 | D57: 21900 | E57: =D57*C57 -> 21900
A58: 2.17.41. | B58: Прибор для получения газов (демонстрационный) | C58: 1 | D58: 1185 | E58: =D58*C58 -> 1185
A59: 2.17.42. | B59: Набор посуды и принадлежностей для проведения демонстрационных опытов | C59: 1 | D59: 26368.5 | E59: =D59*C59 -> 26368.5
... A62: 2.17.45. | B62: Прибор для демонстрации водных свойств почвы | C62: 1 | D62: 1123.5 | E62: =D62*C62 -> 1123.5
A63: Оборудование для проектной деятельности
A64: 2.17.46. | B64: Лабораторный комплекс для учебной практической и проектной деятельности по естествознанию | C64: 1 | D64: 443850 | E64: =D64*C64 -> 443850
A65: 2.17.47. | B65: Цифровая лаборатория для лабораторного комплекса по естествознанию | C65: 1 | D65: 127597.5 | E65: =D65*C65 -> 127597.5
A66: 2.17.48. | B66: Мобильный компьютер (планшет, ноутбук) | C66: 1 | D66: 38850 | E66: =D66*C66 -> 38850
A67: Оборудование для проведения лабораторных работ
A68: 2.17.49. | B68: Мобильный компьютер ученика (планшет, ноутбук)
A69: 2.17.50. | B69: Весы учебные лабораторные электронные | C69: 15 | D69: 1800 | E69: =D69*C69 -> 27000
A70: 2.17.51. | B70: Секундомер электронный | C70: 15 | D70: 2097 | E70: =D70*C70 -> 31455
A71: 2.17.52. | B71: Микролаборатория по химии | C71: 15 | D71: 21000 | E71: =D71*C71 -> 315000
A72: 2.17.53. | B72: Биологическая микролаборатория с микроскопом и микропрепаратами | C72: 15 | D72: 21300 | E72: =D72*C72 -> 319500
A73: Модели, коллекции, химические реактивы
A74: 2.17.54. | B74: Набор моделей атомов для составления моделей молекул по органической и неорганической химии | C74: 1 | D74: 4215 | E74: =D74*C74 -> 4215
A75: 2.17.55. | B75: Набор моделей кристаллических решеток | C75: 1 | D75: 8550 | E75: =D75*C75 -> 8550
A76: 2.17.56. | B76: Модели структуры белка | C76: 1 | D76: 4485 | E76: =D76*C76 -> 4485
A77: 2.17.57. | B77: Модель-аппликация по биосинтезу белка | C77: 1 | D77: 6225 | E77: =D77*C77 -> 6225
A78: 2.17.58. | B78: Модель-аппликация по строению клетки | C78: 1 | D78: 5122.5 | E78: =D78*C78 -> 5122.5
A79: 2.17.59. | B79: Комплект коллекций | C79: 1 | D79: 23473.5 | E79: =D79*C79 -> 23473.5
B80: ИТОГО | E80: =SUM(E13:E79) -> 2458548

Sheet 2.18. Матем
A11: Подраздел 18. Кабинет математики
A12: № п/п | B12: Наименование | C12: Кол-во* | D12: Цена, руб. | E12: Сумма, руб.
A13: Специализированная мебель и системы хранения
A14: 2.18.1. | B14: Доска классная | C14: 1 | D14: 6150 | E14: =D14*C14 -> 6150
A15: 2.18.2. | B15: Стол учителя | C15: 1 | D15: 9000 | E15: =D15*C15 -> 9000
A16: 2.18.3. | B16: Стол учителя приставной | C16: 1 | D16: 6000 | E16: =D16*C16 -> 6000
A17: 2.18.4. | B17: Кресло для учителя | C17: 1 | D17: 5250 | E17: =D17*C17 -> 5250
A18: 2.18.5. | B18: Стол ученический двухместный регулируемый по высоте | C18: 15 | D18: 5235 | E18: =D18*C18 -> 78525
A19: 2.18.6. | B19: Стул ученический поворотный с регулируемой высотой | C19: 30 | D19: 5250 | E19: =D19*C19 -> 157500
A20: 2.18.7. | B20: Шкаф для хранения учебных пособий | C20: 2 | D20: 13350 | E20: =D20*C20 -> 26700
A21: 2.18.8. | B21: Шкаф для хранения с выдвигающимися демонстрационными полками | C21: 1 | D21: 27600 | E21: =D21*C21 -> 27600
A22: 2.18.9. | B22: Система хранения и демонстрации таблиц и плакатов | C22: 1 | D22: 26250 | E22: =D22*C22 -> 26250
A23: 2.18.10. | B23: Тумба для таблиц под доску | C23: 1 | D23: 7200 | E23: =D23*C23 -> 7200
A24: 2.18.11. | B24: Комплект чертежного оборудования и приспособлений | C24: 1 | D24: 4080 | E24: =D24*C24 -> 4080
A25: 2.18.12. | B25: Информационно-тематический стенд | C25: 1 | D25: 27000 | E25: =D25*C25 -> 27000
A26: ТСО (рабочее место учителя)
A27: 2.18.13. | B27: Интерактивный программно-аппаратный комплекс | C27: 1 | D27: 367500 | E27: =D27*C27 -> 367500
A28: 2.18.14. | B28: Компьютер учителя | C28: 1 | D28: 104850 | E28: =D28*C28 -> 104850
A29: 2.18.15. | B29: Планшетный компьютер учителя
A30: 2.18.16. | B30: Многофункциональное устройство | C30: 1 | D30: 29250 | E30: =D30*C30 -> 29250
A31: 2.18.17. | B31: Документ-камера | C31: 1 | D31: 42000 | E31: =D31*C31 -> 42000
A32: 2.18.18. | B32: Акустическая система для аудитории
A33: 2.18.19. | B33: Сетевой фильтр | C33: 1 | D33: 1215 | E33: =D33*C33 -> 1215
A34: Демонстрационное оборудование и приборы
A35: 2.18.20. | B35: Комплект чертежных инструментов классных | C35: 1 | D35: 3720 | E35: =D35*C35 -> 3720
A36: 2.18.21. | B36: Метр демонстрационный | C36: 1 | D36: 570 | E36: =D36*C36 -> 570
A37: 2.18.22. | B37: Механическая рулетка 50м | C37: 1 | D37: 1125 | E37: =D37*C37 -> 1125
A38: Лабораторно-технологическое оборудование (лабораторное оборудование, приборы,
A39: наборы для эксперимента, и т.д.)
A40: 2.18.23. | B40: Цифровая лаборатория для учителя | C40: 1 | D40: 230379 | E40: =D40*C40 -> 230379
A41: Модели
A42: 2.18.24. | B42: Набор прозрачных геометрических тел с сечениями | C42: 1 | D42: 7950 | E42: =D42*C42 -> 7950
A43: 2.18.25. | B43: Набор деревянных геометрических тел | C43: 1 | D43: 870 | E43: =D43*C43 -> 870
A44: 2.18.26. | B44: Модель-аппликация по множествам | C44: 1 | D44: 1605 | E44: =D44*C44 -> 1605
A45: 2.18.27. | B45: Модель-аппликация по числовой прямой | C45: 1 | D45: 1710 | E45: =D45*C45 -> 1710
A46: 2.18.28. | B46: Модели единиц объема | C46: 1 | D46: 1567.5 | E46: =D46*C46 -> 1567.5
A47: 2.18.29. | B47: Набор для объемного представления дробей в виде кубов и шаров | C47: 1 | D47: 7050 | E47: =D47*C47 -> 7050
A48: 2.18.30. | B48: Набор по основам математики, конструирования и моделирования для класса | C48: 1 | D48: 10050 | E48: =D48*C48 -> 10050
A49: 2.18.31. | B49: Части целого на круге. Простые дроби | C49: 1 | D49: 915 | E49: =D49*C49 -> 915
A50: 2.18.32. | B50: Набор для упражнений в действиях с рациональными числами: сложение, вычитание, умножение и деление | C50: 1 | D50: 3150 | E50: =D50*C50 -> 3150
A51: 2.18.33. | B51: Набор моделей для лабораторных работ по стереометрии | C51: 15 | D51: 631.5 | E51: =D51*C51 -> 9472.5
A52: Электронные средства обучения (CD, DVD, видеофильмы, интерактивные плакаты)
A53: 2.18.34. | B53: Электронные средства обучения для кабинета математики | C53: 1 | D53: 90750 | E53: =D53*C53 -> 90750
A54: 2.18.35. | B54: Видеофильмы | C54: 1 | D54: 2925 | E54: =D54*C54 -> 2925
A55: Демонстрационные учебно-наглядные пособия
A56: 2.18.36. | B56: Комплект наглядных пособий для постоянного использования | C56: 1 | D56: 18202.5 | E56: =D56*C56 -> 18202.5
A57: 2.18.37. | B57: Комплект демонстрационных учебных таблиц | C57: 1 | D57: 108450 | E57: =D57*C57 -> 108450
B58: ИТОГО | E58: =SUM(E14:E57) -> 1426531.5

Sheet 2.21. Технол
A11: Подраздел 21. Кабинет технологии
A12: № п/п | B12: Наименование | C12: Кол-во* | D12: Цена, руб. | E12: Сумма, руб.
A13: Часть 1. Домоводство (кройка и шитье)
A14: Специализированная мебель и системы хранения
A15: 2.21.1. | B15: Доска настенная трехэлементная для письма мелом и маркером
A16: 2.21.2. | B16: Стол для швейного оборудования | C16: 15 | D16: 3150 | E16: =D16*C16 -> 47250
A17: 2.21.3. | B17: Табурет рабочий (винтовой механизм регулировки высоты сиденья)
A18: 2.21.4. | B18: Стол для черчения, выкроек и раскроя | C18: 1 | D18: 3855 | E18: =D18*C18 -> 3855
A19: 2.21.5. | B19: Стол учителя | C19: 1 | D19: 9000 | E19: =D19*C19 -> 9000
A20: 2.21.6. | B20: Стол учителя приставной | C20: 1 | D20: 6000 | E20: =D20*C20 -> 6000
A21: 2.21.7. | B21: Кресло для учителя | C21: 1 | D21: 5250 | E21: =D21*C21 -> 5250
A22: 2.21.8. | B22: Шкаф для хранения с выдвигающимися полками | C22: 1 | D22: 27600 | E22: =D22*C22 -> 27600
A23: 2.21.9. | B23: Шкаф для хранения учебных пособий | C23: 2 | D23: 13350 | E23: =D23*C23 -> 26700
A24: 2.21.10. | B24: Система хранения и демонстрации таблиц и плакатов | C24: 1 | D24: 26250 | E24: =D24*C24 -> 26250
A25: 2.21.11. | B25: Боковая демонстрационная панель
A26: ТСО (рабочее место учителя)
A27: 2.21.12. | B27: Интерактивный программно-аппаратный комплекс | C27: 1 | D27: 367500 | E27: =D27*C27 -> 367500
A28: 2.21.13. | B28: Компьютер учителя | C28: 1 | D28: 104850 | E28: =D28*C28 -> 104850
A29: 2.21.14. | B29: Планшетный компьютер учителя
A30: 2.21.15. | B30: Многофункциональное устройство | C30: 1 | D30: 29250 | E30: =D30*C30 -> 29250
A31: 2.21.16. | B31: Документ-камера | C31: 1 | D31: 42000 | E31: =D31*C31 -> 42000
A32: 2.21.17. | B32: Акустическая система для аудитории
A33: 2.21.18. | B33: Сетевой фильтр | C33: 1 | D33: 1500 | E33: =D33*C33 -> 1500
A34: Лабораторно-технологическое оборудование
A35: 2.21.19. | B35: Коллекции по волокнам и тканям | C35: 1 | D35: 11550 | E35: =D35*C35 -> 11550
A36: 2.21.20. | B36: Доска гладильная | C36: 2 | D36: 5850 | E36: =D36*C36 -> 11700
A37: 2.21.21. | B37: Манекен женский с подставкой (размер 42-50) | C37: 1 | D37: 29850 | E37: =D37*C37 -> 29850
A38: 2.21.22. | B38: Манекен подростковый размер (размер 36-44) | C38: 1 | D38: 29850 | E38: =D38*C38 -> 29850
A39: 2.21.23. | B39: Машина швейно-вышивальная | C39: 1 | D39: 81750 | E39: =D39*C39 -> 81750
A40: 2.21.24. | B40: Машина швейная | C40: 15 | D40: 22785 | E40: =D40*C40 -> 341775
A41: 2.21.25. | B41: Комплект для вышивания (пяльцы, холст, иглы, нити) | C41: 15 | D41: 2850 | E41: =D41*C41 -> 42750
A42: 2.21.26. | B42: Шпуля пластиковая | C42: 5 | D42: 270 | E42: =D42*C42 -> 1350
A43: 2.21.27. | B43: Коврик для швейных машин | C43: 15 | D43: 652.5 | E43: =D43*C43 -> 9787.5
A44: 2.21.28. | B44: Набор игл для швейной машины | C44: 5 | D44: 142.5 | E44: =D44*C44 -> 712.5
A45: 2.21.29. | B45: Ножницы универсальные | C45: 15 | D45: 285 | E45: =D45*C45 -> 4275
A46: 2.21.30. | B46: Ножницы закройные | C46: 5 | D46: 555 | E46: =D46*C46 -> 2775
... A54: 2.21.38. | B54: Аптечка первой помощи. | C54: 1 | D54: 5700 | E54: =D54*C54 -> 5700
A55: Демонстрационные учебно-наглядные пособия
A56: 2.21.39. | B56: Комплект таблиц демонстрационных по технологии обработки тканей | C56: 1 | D56: 23070 | E56: =D56*C56 -> 23070
A57: 2.21.40. | B57: Комплект справочников по швейному мастерству
A58: Электронные средства обучения (CD, DVD, видеофильмы, интерактивные плакаты)
A59: 2.21.41. | B59: Электронные учебные пособия по учебному предмету технология | C59: 1 | D59: 1575 | E59: =D59*C59 -> 1575
A60: 2.21.42. | B60: Комплект учебных видео фильмов | C60: 1 | D60: 1560 | E60: =D60*C60 -> 1560
A61: Часть 2. Домоводство (кулинария)
A62: Специализированная мебель и системы хранения
A63: 2.21.43. | B63: Доска классная | C63: 1 | D63: 6150 | E63: =D63*C63 -> 6150
A64: 2.21.44. | B64: Стол учителя | C64: 1 | D64: 9000 | E64: =D64*C64 -> 9000
A65: 2.21.45. | B65: Стол учителя приставной | C65: 1 | D65: 6000 | E65: =D65*C65 -> 6000
A66: 2.21.46. | B66: Кресло для учителя | C66: 1 | D66: 5250 | E66: =D66*C66 -> 5250
A67: 2.21.47. | B67: Стол ученический двухместный регулируемый по высоте | C67: 15 | D67: 5085 | E67: =D67*C67 -> 76275
A68: 2.21.48. | B68: Стул ученический поворотный с регулируемой высотой | C68: 30 | D68: 5250 | E68: =D68*C68 -> 157500
A69: 2.21.49. | B69: Шкаф для хранения с выдвигающимися полками | C69: 1 | D69: 27600 | E69: =D69*C69 -> 27600
A70: 2.21.50. | B70: Шкаф для хранения учебных пособий | C70: 2 | D70: 13350 | E70: =D70*C70 -> 26700
A71: 2.21.51. | B71: Система хранения и демонстрации таблиц и плакатов | C71: 1 | D71: 26250 | E71: =D71*C71 -> 26250
A72: 2.21.52. | B72: Мебель кухонная
A73: 2.21.53. | B73: Стол обеденный с гигиеническим покрытием
A74: 2.21.54. | B74: Табурет обеденный
A75: ТСО (рабочее место учителя)
A76: 2.21.55. | B76: Интерактивный программно-аппаратный комплекс | C76: 1 | D76: 367500 | E76: =D76*C76 -> 367500
A77: 2.21.56. | B77: Компьютер учителя | C77: 1 | D77: 104850 | E77: =D77*C77 -> 104850
A78: 2.21.57. | B78: Планшетный компьютер учителя
A79: 2.21.58. | B79: Многофункциональное устройство | C79: 1 | D79: 29250 | E79: =D79*C79 -> 29250
A80: 2.21.59. | B80: Документ-камера | C80: 1 | D80: 42000 | E80: =D80*C80 -> 42000
A81: 2.21.60. | B81: Акустическая система для аудитории
A82: 2.21.61. | B82: Сетевой фильтр | C82: 1 | D82: 1215 | E82: =D82*C82 -> 1215
A83: Лабораторно-технологическое оборудование
A84: 2.21.62. | B84: Санитарно-пищевая экспресс-лаборатория | C84: 1 | D84: 37200 | E84: =D84*C84 -> 37200
A85: 2.21.63. | B85: Электроплита с духовкой | C85: 1 | D85: 31800 | E85: =D85*C85 -> 31800
A86: 2.21.64. | B86: Вытяжка | C86: 1 | D86: 8250 | E86: =D86*C86 -> 8250
A87: 2.21.65. | B87: Холодильник | C87: 1 | D87: 37800 | E87: =D87*C87 -> 37800
A88: 2.21.66. | B88: Микроволновая печь | C88: 1 | D88: 13350 | E88: =D88*C88 -> 13350
A89: 2.21.67. | B89: Миксер | C89: 2 | D89: 7950 | E89: =D89*C89 -> 15900
A90: 2.21.68. | B90: Мясорубка электрическая | C90: 1 | D90: 11850 | E90: =D90*C90 -> 11850
A91: 2.21.69. | B91: Блендер | C91: 1 | D91: 7395 | E91: =D91*C91 -> 7395
A92: 2.21.70. | B92: Чайник электрический | C92: 2 | D92: 4680 | E92: =D92*C92 -> 9360
A93: 2.21.71. | B93: Весы настольные электронные кухонные | C93: 1 | D93: 2250 | E93: =D93*C93 -> 2250
A94: 2.21.72. | B94: Комплект столовых приборов | C94: 1 | D94: 19800 | E94: =D94*C94 -> 19800
A95: 2.21.73. | B95: Набор кухонных ножей | C95: 2 | D95: 6000 | E95: =D95*C95 -> 12000
... A103: 2.21.81. | B103: Терка | C103: 2 | D103: 480 | E103: =D103*C103 -> 960
A104: Демонстрационные учебно-наглядные пособия
A105: 2.21.82. | B105: Комплект таблиц демонстрационных по кулинарии | C105: 1 | D105: 6000 | E105: =D105*C105 -> 6000
A106: 2.21.83. | B106: Комплект учебных пособий и справочников по кулинарии
A107: Электронные средства обучения (CD, DVD, видеофильмы, интерактивные плакаты)
A108: 2.21.84. | B108: Электронные учебные пособия по учебному предмету технология
A109: 2.21.85. | B109: Комплект учебных видео фильмов
B110: ИТОГО по разделу ДОМОВОДСТВО | E110: =SUM(E15:E109) -> 2581062
A111: Часть 3. Слесарное дело
A112: Специализированная мебель и системы хранения
A113: 2.21.86. | B113: Доска классная | C113: 1 | D113: 6150 | E113: =D113*C113 -> 6150
A114: 2.21.87. | B114: Стол учителя | C114: 1 | D114: 9000 | E114: =D114*C114 -> 9000
A115: 2.21.88. | B115: Стол учителя приставной | C115: 1 | D115: 6000 | E115: =D115*C115 -> 6000
A116: 2.21.89. | B116: Кресло для учителя | C116: 1 | D116: 5250 | E116: =D116*C116 -> 5250
A117: 2.21.90. | B117: Стол ученический двухместный регулируемый по высоте | C117: 15 | D117: 5085 | E117: =D117*C117 -> 76275
A118: 2.21.91. | B118: Стул ученический поворотный с регулируемой высотой | C118: 30 | D118: 5250 | E118: =D118*C118 -> 157500
A119: 2.21.92. | B119: Шкаф для хранения с выдвигающимися полками | C119: 1 | D119: 27600 | E119: =D119*C119 -> 27600
A120: 2.21.93. | B120: Шкаф для хранения учебных пособий | C120: 2 | D120: 13350 | E120: =D120*C120 -> 26700
A121: 2.21.94. | B121: Тумба металлическая для инструмента | C121: 2 | D121: 24000 | E121: =D121*C121 -> 48000
A122: 2.21.95. | B122: Система хранения и демонстрации таблиц и плакатов | C122: 1 | D122: 26250 | E122: =D122*C122 -> 26250
A123: 2.21.96. | B123: Боковая демонстрационная панель
A124: 2.21.97. | B124: Верстак ученический комбинированный | C124: 15 | D124: 32850 | E124: =D124*C124 -> 492750
...

Sheet 2.22. ОБЖ
A11: Подраздел 22. Кабинет ОБЖ
A12: № п/п | B12: Наименование | C12: Кол-во* | D12: Цена, руб. | E12: Сумма, руб.
A13: Специализированная мебель и системы хранения
A14: 2.22.1. | B14: Доска классная | C14: 1 | D14: 6150 | E14: =D14*C14 -> 6150
A15: 2.22.2. | B15: Стол учителя | C15: 1 | D15: 9000 | E15: =D15*C15 -> 9000
A16: 2.22.3. | B16: Стол учителя приставной | C16: 1 | D16: 6000 | E16: =D16*C16 -> 6000
A17: 2.22.4. | B17: Кресло для учителя | C17: 1 | D17: 5250 | E17: =D17*C17 -> 5250
A18: 2.22.5. | B18: Стол ученический двухместный регулируемый по высоте электрифицированный | C18: 15 | D18: 5235 | E18: =D18*C18 -> 78525
A19: 2.22.6. | B19: Стул ученический поворотный с регулируемой высотой | C19: 30 | D19: 5250 | E19: =D19*C19 -> 157500
A20: 2.22.7. | B20: Шкаф для хранения учебных пособий | C20: 2 | D20: 13350 | E20: =D20*C20 -> 26700
A21: 2.22.8. | B21: Шкаф для хранения с выдвигающимися демонстрационными полками | C21: 1 | D21: 27600 | E21: =D21*C21 -> 27600
A22: 2.22.9. | B22: Сейф оружейный | C22: 1 | D22: 18000 | E22: =D22*C22 -> 18000
A23: 2.22.10. | B23: Система хранения тренажеров
A24: 2.22.11. | B24: Система хранения таблиц и плакатов | C24: 1 | D24: 26250 | E24: =D24*C24 -> 26250
A25: 2.22.12. | B25: Тумба для таблиц под доску | C25: 1 | D25: 7200 | E25: =D25*C25 -> 7200
A26: 2.22.13. | B26: Плакаты настенные | C26: 1 | D26: 9000 | E26: =D26*C26 -> 9000
A27: 2.22.14. | B27: Боковая демонстрационная панель
A28: 2.22.15. | B28: Информационно-тематический стенд | C28: 1 | D28: 27000 | E28: =D28*C28 -> 27000
A29: ТСО (рабочее место учителя)
A30: 2.22.16. | B30: Интерактивный программно-аппаратный комплекс | C30: 1 | D30: 367500 | E30: =D30*C30 -> 367500
A31: 2.22.17. | B31: Компьютер учителя | C31: 1 | D31: 104850 | E31: =D31*C31 -> 104850
A32: 2.22.18. | B32: Планшетный компьютер учителя
A33: 2.22.19. | B33: Многофункциональное устройство | C33: 1 | D33: 29250 | E33: =D33*C33 -> 29250
A34: 2.22.20. | B34: Документ-камера | C34: 1 | D34: 42000 | E34: =D34*C34 -> 42000
A35: 2.22.21. | B35: Акустическая система для аудитории
A36: 2.22.22. | B36: Сетевой фильтр | C36: 1 | D36: 1215 | E36: =D36*C36 -> 1215
A37: 2.22.23. | B37: Средство организации беспроводной сети (Wi-Fi роутер) | C37: 1 | D37: 10500 | E37: =D37*C37 -> 10500
A38: Демонстрационное оборудование и приборы
A39: 2.22.24. | B39: Мини-экспресс-лаборатории радиационно-химической разведки | C39: 1 | D39: 113535 | E39: =D39*C39 -> 113535
A40: 2.22.25. | B40: Дозиметр | C40: 1 | D40: 10200 | E40: =D40*C40 -> 10200
A41: 2.22.26. | B41: Газоанализатор кислорода и токсичных газов с цифровой индикацией показателей | C41: 1 | D41: 96300 | E41: =D41*C41 -> 96300
A42: 2.22.27. | B42: Защитный костюм ОЗК (плащ ОП-1, чулки, перчатки Л-1) | C42: 3 | D42: 5250 | E42: =D42*C42 -> 15750
A43: 2.22.28. | B43: Измеритель электропроводности, рН и температуры | C43: 1 | D43: 33855 | E43: =D43*C43 -> 33855
A44: 2.22.29. | B44: Компас-азимут | C44: 15 | D44: 720 | E44: =D44*C44 -> 10800
A45: 2.22.30. | B45: Противогаз взрослый, фильтрующе-поглощающий | C45: 5 | D45: 5400 | E45: =D45*C45 -> 27000
A46: 2.22.31. | B46: Макет гранаты Ф-1 | C46: 1 | D46: 2655 | E46: =D46*C46 -> 2655
A47: 2.22.32. | B47: Макет гранаты РГД-5 | C47: 1 | D47: 2722.5 | E47: =D47*C47 -> 2722.5
A48: 2.22.33. | B48: Респиратор Р-2 | C48: 15 | D48: 435 | E48: =D48*C48 -> 6525
A49: Лабораторно-технологическое оборудование для оказания первой помощи
A50: 2.22.34. | B50: Дыхательная трубка (воздуховод) | C50: 5 | D50: 675 | E50: =D50*C50 -> 3375
A51: 2.22.35. | B51: Гипотермический пакет | C51: 5 | D51: 64.5 | E51: =D51*C51 -> 322.5
A52: 2.22.36. | B52: Индивидуальный перевязочный пакет | C52: 5 | D52: 112.5 | E52: =D52*C52 -> 562.5
A53: 2.22.37. | B53: Индивидуальный противохимический пакет ИПП-11 | C53: 5 | D53: 270 | E53: =D53*C53 -> 1350
A54: 2.22.38. | B54: Бинт марлевый медицинский нестерильный (7мх14см) | C54: 5 | D54: 105 | E54: =D54*C54 -> 525
A55: 2.22.39. | B55: Бинт марлевый медицинский нестерильный (5мх10см) | C55: 5 | D55: 90 | E55: =D55*C55 -> 450
A56: 2.22.40. | B56: Вата медицинская компрессная | C56: 5 | D56: 225 | E56: =D56*C56 -> 1125
A57: 2.22.41. | B57: Косынка медицинская (перевязочная) | C57: 5 | D57: 525 | E57: =D57*C57 -> 2625
A58: 2.22.42. | B58: Повязка медицинская большая стерильная | C58: 5 | D58: 172.5 | E58: =D58*C58 -> 862.5
A59: 2.22.43. | B59: Повязка медицинская малая стерильная | C59: 5 | D59: 142.5 | E59: =D59*C59 -> 712.5
A60: 2.22.44. | B60: Булавка безопасная | C60: 5 | D60: 142.5 | E60: =D60*C60 -> 712.5
A61: 2.22.45. | B61: Жгут кровоостанавливающий эластичный | C61: 3 | D61: 165 | E61: =D61*C61 -> 495
... A69: 2.22.53. | B69: Термометр электронный | C69: 1 | D69: 1185 | E69: =D69*C69 -> 1185
A70: Модели (объемные и плоские), натуральные объекты
A71: 2.22.54. | B71: Комплект масса-габаритных моделей оружия | C71: 3 | D71: 66750 | E71: =D71*C71 -> 200250
A72: 2.22.55. | B72: Стрелковый тренажер | C72: 1 | D72: 198967.5 | E72: =D72*C72 -> 198967.5
A73: 2.22.56. | B73: Макет простейшего укрытия в разрезе | C73: 1 | D73: 44850 | E73: =D73*C73 -> 44850
A74: 2.22.57. | B74: Тренажер для оказания первой помощи на месте происшествия | C74: 1 | D74: 56550 | E74: =D74*C74 -> 56550
A75: 2.22.58. | B75: Имитаторы ранений и поражений для тренажера - манекена | C75: 1 | D75: 13035 | E75: =D75*C75 -> 13035
A76: 2.22.59. | B76: Тренажер для освоения навыков сердечно-легочной реанимации взрослого и ребенка | C76: 1 | D76: 119074.5 | E76: =D76*C76 -> 119074.5
A77: Электронные средства обучения (СD, DVD, видеофильмы, интерактивные плакаты)
A78: 2.22.60. | B78: Комплект учебных видео фильмов | C78: 1 | D78: 2325 | E78: =D78*C78 -> 2325
A79: Демонстрационные учебно-наглядные пособия
A80: 2.22.61. | B80: Комплект демонстрационных учебных таблиц по курсу ОБЖ | C80: 1 | D80: 10500 | E80: =D80*C80 -> 10500
B81: ИТОГО | E81: =SUM(E13:E80) -> 1983859.5
